BEGIN:VCALENDAR
PRODID:NingEventWidget-v1
VERSION:2.0
METHOD:PUBLISH
BEGIN:VTIMEZONE
TZID:Europe/Paris
X-LIC-LOCATION:Europe/Paris
BEGIN:DAYLIGHT
TZOFFSETFROM:+0100
TZOFFSETTO:+0200
TZNAME:CEST
DTSTART:19700329T020000
RRULE:FREQ=YEARLY;BYMONTH=3;BYDAY=-1SU
END:DAYLIGHT
BEGIN:STANDARD
TZOFFSETFROM:+0200
TZOFFSETTO:+0100
TZNAME:CET
DTSTART:19701025T030000
RRULE:FREQ=YEARLY;BYMONTH=10;BYDAY=-1SU
END:STANDARD
END:VTIMEZONE
BEGIN:VEVENT
UID:2485226:Event:61057
DTSTAMP:20260420T130141Z
SUMMARY:Semaine Mondiale de l'Accouchement RespectÃ©
DESCRIPTION:Lâ€™ASAAD vous propose, une Ã©mission\nde radio, des proje
 ctions-dÃ©bats,\ndes tentes rouges (libre parole sur les\ngrands thÃ¨m
 es fÃ©minins comme la\nmaternitÃ© mais aussi notre propre\nnaissance, 
 notre rapport Ã  notre mÃ¨re,\nnos envies, nos projets, toutes les\nfe
 mmes, mÃ¨res ou non, sont les\nbienvenues), une exposition, une\nrenco
 ntre Â« Moi jâ€™Accouche Â»,\ndes stands dâ€™infos, apÃ©ros causette\n
 et repas partagÃ©s.\nProgramme DÃ©taillÃ©:\nLa Semaine Mondiale pour l
 â€™Accouchement RespectÃ© sâ€™intÃ©resse cette annÃ©e au thÃ¨me \"BIRT
 H TRAUMA, BIRTH PLEASURE\".Le mot \"Birth\" peut se traduire par \"acc
 ouchement\" ou \"naissance\", de sorte qu'il est possible de parler de
  la mÃ¨re, des parents, ou de l'enfant nouveau-nÃ© en rapport avec les
  mots \"trauma\" et \"pleasure\", qui Ã©voquent toutes les formes de t
 raumatisme et de plaisir. Une traduction possible parmi bien d'autres 
 serait donc \"Peine et plaisir d'accoucher\". Lâ€™ASAAD vous propose d
 es projections-dÃ©bats, des tentes rouges (libre parole sur les grands
  thÃ¨mes fÃ©minins comme la maternitÃ© mais aussi notre propre naissan
 ce, notre rapport Ã  notre mÃ¨re, nos envies, nos projets. Toutes les 
 femmes, mÃ¨res ou non, sont les bienvenues), une exposition, une renco
 ntre Â« Moi jâ€™accouche Â», des stands dâ€™infos, apÃ©ros causette, d
 Ã©bats et repas partagÃ©s.\n\n\nMARDI 18 mai\nÃ©mission Ã  radio escap
 ade freq :103.3 (prÃ©ciser lâ€™heure)\n\nCette Ã©mission prÃ©sentera u
 n trouble encore mÃ©connu et peu reconnu en France : le Choc post trau
 matique post-natal.\n\n\nVENDREDI 21 mai\n20h30 : soirÃ©e film-dÃ©bat 
 au cinÃ©ma de Ganges 4â‚¬\nÂ« le deni qui est en moi Â» (Ã  confirmer)
 \n\nÂ« orgasmic birth Â»\nLong mÃ©trage de Debra Pascali-Bonaro\nÂ« L'
 accouchement sans douleur est possible, et mÃªme plus... Â»\nCe film p
 rogrammÃ© lâ€™annÃ©e derniÃ¨re, sera diffusÃ© Ã  nouveau suite Ã  une 
 forte demande de nos adhÃ©rents\n\nSuivi de dÃ©bat apÃ©ro causette (of
 fert)\n\n\nSAMEDI 22 mai\nA Cazilhac, 234 chemin Magnaneries 34190 CAZ
 ILHAC\n(entrÃ©e libre, voir plan)\n\n-10h Tente rouge\nLes tentes roug
 es sont des lieux dâ€™Ã©change et dâ€™Ã©coute entre femmes, en\nrÃ©fÃ©
 rence Ã  diffÃ©rentes traditions anciennes. Le mouvement BOLD (initiÃ©
 \naux Etats-Unis) les remet au goÃ»t du jour dans le monde entier.\nSu
 r inscription, places limitÃ©es Ã  15.\n\n-12h repas partagÃ©\n\n-14h 
 Atelier Parents-enfants animÃ© par Mamayaya de NÃ®mes (Ã  confirmer)\n
 -14h tente rouge\nLes tentes rouges sont des lieux dâ€™Ã©change et dâ€
 ™Ã©coute entre femmes, en\nrÃ©fÃ©rence Ã  diffÃ©rentes traditions anci
 ennes. Le mouvement BOLD (initiÃ©\naux Etats-Unis) les remet au goÃ»t 
 du jour dans le monde entier.\nSur inscription, places limitÃ©es Ã  15
 .\n\n\nRencontre Â« moi jâ€™accouche Â» (je confirme avec HÃ©lÃ¨ne ces
 jours)\nCette rencontre se divise en 3 Temps :\n14h :\nTout dâ€™abord,
  une tente rouge\nLes tentes rouges sont des lieux dâ€™Ã©change et dâ€
 ™Ã©coute entre femmes, en\nrÃ©fÃ©rence Ã  diffÃ©rentes traditions anci
 ennes. Le mouvement BOLD (initiÃ©\naux Etats-Unis) les remet au goÃ»t 
 du jour dans le monde entier.\nSur inscription, places limitÃ©es Ã  15
 .\n\n16h :\nEnsuite un atelier dâ€™Ã©criture sur le thÃ¨me de lâ€™acco
 uchement, oÃ¹ les personnes pourront sâ€™exprimer sur leur vÃ©cu lors 
 de la naissance de leur enfant ;\n\n18h :\npique_nique tirÃ© du sac\n\
 n20H:\nenfin, pour les personnes qui le souhaitent, les textes produit
 s seront lu. Cette lecture sera accompagnÃ©e dâ€™une lecture scÃ©nique
  du texte Â« moi jâ€™accouche Â» Ã©crit par HÃ©lÃ¨ne Goninet, sage fem
 me qui pratique lâ€™accompagnement global en ArdÃ¨che. Â« moi, jâ€™acc
 ouche Â», inspirÃ© de la piÃ¨ce Â« Birth Â» de Karen Brody, retrace qu
 elques histoires de naissances, vÃ©cus par des parents suivis par lâ€™
 auteure.\n\nTOUT AU LONG DE LA JOURNEE\n-Expo de l'association CÃ©sari
 ne (Ã  confirmer, peu Ãªtre mettre Â« expositions Â« tout cour pour pa
 s sâ€™avancer tropâ€¦)\n-Animation autour de la terre (modelage)\n-sta
 nds infos\n\nPour plus d'information, aller sur https://epanews.fr/eve
 nts/semaine-mondiale-de
DTSTART;TZID=Europe/Paris:20100516T220000
DTEND;TZID=Europe/Paris:20100523T220000
CATEGORIES:34
LOCATION:Ganges/Cazhilac
WEBSITE:
URL:
CONTACT:04 34 40 45 70 ou 06 23 18 78 49
ORGANIZER;CN=sophietheta:https://epanews.fr/profile/sophietheta
ATTACH;FMTTYPE="image/jpeg":http://storage.ning.com/topology/rest/1.0/
 file/get/1662300610?profile=original
ATTENDEE;ROLE=REQ-PARTICIPANT;PARTSTAT=ACCEPTED;RSVP=TRUE;CN=YaÃ«l:htt
 ps://epanews.fr/profile/yael
ATTENDEE;ROLE=REQ-PARTICIPANT;PARTSTAT=ACCEPTED;RSVP=TRUE;CN=sophiethe
 ta:https://epanews.fr/profile/sophietheta
END:VEVENT
END:VCALENDAR
