BEGIN:VCALENDAR
PRODID:NingEventWidget-v1
VERSION:2.0
METHOD:PUBLISH
BEGIN:VTIMEZONE
TZID:Europe/Paris
X-LIC-LOCATION:Europe/Paris
BEGIN:DAYLIGHT
TZOFFSETFROM:+0100
TZOFFSETTO:+0200
TZNAME:CEST
DTSTART:19700329T020000
RRULE:FREQ=YEARLY;BYMONTH=3;BYDAY=-1SU
END:DAYLIGHT
BEGIN:STANDARD
TZOFFSETFROM:+0200
TZOFFSETTO:+0100
TZNAME:CET
DTSTART:19701025T030000
RRULE:FREQ=YEARLY;BYMONTH=10;BYDAY=-1SU
END:STANDARD
END:VTIMEZONE
BEGIN:VEVENT
UID:2485226:Event:2925101
DTSTAMP:20260423T110018Z
SUMMARY:sejour bien etre + promenades Ã  raquettes
DESCRIPTION:Bonjour, nousÂ proposons unÂ trÃ¨s beauÂ sÃ©jour autour du
  bien Ãªtre, de sa connaissance intÃ©rieure:\nQiÂ Conq, massage Ã  l'h
 uile et Shiatsu, relaxation et Ã©coute de notre ressenti, danse intuit
 ive, mÃ©ditations guidÃ©es,, s'ouvrir Ã  la PrÃ©sence et au Silence In
 tÃ©rieur, crÃ©ativitÃ© par l'Ã©criture, le chant, le dessin, le mouvem
 ent. Partage de groupe avec son cÅ“ur,.dÃ©velopper une Ã©coute bienvei
 llante. Chants et mantras le soir au coin du feu du bois. Nourriture b
 io, beaucoup de frais, que duÂ cuisinÃ© maison, Cuisiner en groupe sel
 on les compÃ©tences et idÃ©es de chacun.\nactivitÃ©s physiques proposÃ
 ©es: deux promenades Ã  raquettes Ã  la journÃ©e avec un guide accompa
 gnateur, Ã©quipement compris promenades pÃ©destres au dÃ©part du gÃ®te
 \nDans un beau et trÃ¨s confortable gÃ®te de France, Ã  ChÃ¢teauroux-l
 es-Alpes, le gÃ®te St Alban, Ã  quelques kilomÃ¨tres au nord d'Embrun.
 \nPlusieurs possibilitÃ©s d'hÃ©bergements sont proposÃ©es,Â aucune enÂ
  chambre individuelle: chambre de deux: 350â‚¬/persÂ Â  chambre de tro
 is personnes 300â‚¬/pers  chambre de quatre personnes: 250â‚¬/pers\nCe
 s tarifs s'entendent toutes prestations comprises. Il faut juste ajout
 er 50â‚¬ pour la cagnotte commune pour effectuer les achatsÂ de nourri
 ture.\nLes tarifs pratiquÃ©s sont calculÃ©s au plus justeÂ en proposan
 tÂ le meilleur rapport qualitÃ© prix possible.  Notre dÃ©marche est de
  proposer du bien Ãªtre Ã  la portÃ©e de toutes les bourses!\nVous tro
 uvez tous les renseignements, fiche d'inscription et le dÃ©tail du sÃ©
 jour sur notre site.  Deux sessions de proposÃ©es: du dimanche 11 au s
 amedi 17 mars du dimanche 17 au samedi 24 mars  bien Ã  vous. le PrÃ©s
 ident Daniel FERNANDEZ\n\n\n\n\n\n\nPour plus d'information, aller sur
  https://epanews.fr/events/sejour-bien-etre-promenades-raquettes
DTSTART;TZID=Europe/Paris:20180311T170000
DTEND;TZID=Europe/Paris:20180317T110000
CATEGORIES:05
LOCATION:Embrun
WEBSITE:https://lemeilleurweb.com/aperiabienetre/
URL:https://lemeilleurweb.com/aperiabienetre/
CONTACT:0761278983
ORGANIZER:association APERIA
ATTACH;FMTTYPE="image/jpeg":http://storage.ning.com/topology/rest/1.0/
 file/get/1663718123?profile=original
ATTENDEE;ROLE=REQ-PARTICIPANT;PARTSTAT=ACCEPTED;RSVP=TRUE;CN=associati
 onAPERIA:https://epanews.fr/profile/associationAPERIA
END:VEVENT
END:VCALENDAR
