BEGIN:VCALENDAR
PRODID:NingEventWidget-v1
VERSION:2.0
METHOD:PUBLISH
BEGIN:VTIMEZONE
TZID:Europe/Paris
X-LIC-LOCATION:Europe/Paris
BEGIN:DAYLIGHT
TZOFFSETFROM:+0100
TZOFFSETTO:+0200
TZNAME:CEST
DTSTART:19700329T020000
RRULE:FREQ=YEARLY;BYMONTH=3;BYDAY=-1SU
END:DAYLIGHT
BEGIN:STANDARD
TZOFFSETFROM:+0200
TZOFFSETTO:+0100
TZNAME:CET
DTSTART:19701025T030000
RRULE:FREQ=YEARLY;BYMONTH=10;BYDAY=-1SU
END:STANDARD
END:VTIMEZONE
BEGIN:VEVENT
UID:2485226:Event:33262
DTSTAMP:20260420T162049Z
SUMMARY:Séance de découverte de la sophrologie
DESCRIPTION:J'organise une après midi détente / partage au coin du f
 eu chez moi pour des personnes désireuses de découvrir la sophrologi
 e avec la participation d'Elodie, sophrologue, qui vous parlera des bi
 enfaits de cette discipline et répondra à toutes vos questions.\n\nE
 lle vous proposera également une séance de relaxation / détente qui
  sera suivie d'un petit thé sur musique douce ...\n\nLe groupe sera c
 omposé de 8 personnes maximum, 4 personnes étant déjà inscrites en
  dehors d'Epanews, il reste donc 4 places !\n\nParticipation : 5 euros
  par personne\n\nSi vous êtes intéressés, inscrivez vous vite et co
 ntactez moi par téléphone pour que je puisse vous donner mon adresse
 .\n\nAu plaisir de vous rencontrer !\n\nPour plus d'information, aller
  sur https://epanews.fr/events/seance-de-decouverte-de-la
DTSTART;TZID=Europe/Paris:20100220T163000
DTEND;TZID=Europe/Paris:20100220T183000
CATEGORIES:30, 34
LOCATION:A mon domicile - CV de Nimes (adresse donnée par MP)
WEBSITE:
URL:
CONTACT:0616415663
ORGANIZER;CN="LAURENT Catherine":https://epanews.fr/profile/LAURENTCat
 herine
ATTACH;FMTTYPE="image/jpeg":http://storage.ning.com/topology/rest/1.0/
 file/get/1662289385?profile=original
ATTENDEE;ROLE=REQ-PARTICIPANT;PARTSTAT=ACCEPTED;RSVP=TRUE;CN="LAURENT 
 Catherine":https://epanews.fr/profile/LAURENTCatherine
END:VEVENT
END:VCALENDAR
