BEGIN:VCALENDAR
PRODID:NingEventWidget-v1
VERSION:2.0
METHOD:PUBLISH
BEGIN:VTIMEZONE
TZID:Europe/Paris
X-LIC-LOCATION:Europe/Paris
BEGIN:DAYLIGHT
TZOFFSETFROM:+0100
TZOFFSETTO:+0200
TZNAME:CEST
DTSTART:19700329T020000
RRULE:FREQ=YEARLY;BYMONTH=3;BYDAY=-1SU
END:DAYLIGHT
BEGIN:STANDARD
TZOFFSETFROM:+0200
TZOFFSETTO:+0100
TZNAME:CET
DTSTART:19701025T030000
RRULE:FREQ=YEARLY;BYMONTH=10;BYDAY=-1SU
END:STANDARD
END:VTIMEZONE
BEGIN:VEVENT
UID:2485226:Event:2610410
DTSTAMP:20260422T140434Z
SUMMARY:Séance collective relaxation sonore
DESCRIPTION:Se détendre\nVivre l'instant\nÊtre dans sa conscience co
 rporelle\nréservation mel (p.villoutreix@orange.fr)\n10€ participat
 ion\n\nPour plus d'information, aller sur https://epanews.fr/events/se
 ance-collective-relaxation-sonore
DTSTART;TZID=Europe/Paris:20160331T190000
DTEND;TZID=Europe/Paris:20160331T203000
CATEGORIES:44
LOCATION:La Foresterie
WEBSITE:
URL:
CONTACT:03.81.23.523.23
ORGANIZER;CN=pascalV:https://epanews.fr/profile/Villoutreixpascal
ATTACH;FMTTYPE="image/jpeg":http://storage.ning.com/topology/rest/1.0/
 file/get/1663544775?profile=original
ATTENDEE;ROLE=REQ-PARTICIPANT;PARTSTAT=ACCEPTED;RSVP=TRUE;CN=pascalV:h
 ttps://epanews.fr/profile/Villoutreixpascal
ATTENDEE;ROLE=REQ-PARTICIPANT;PARTSTAT=TENTATIVE;RSVP=TRUE;CN=bijoux-p
 ierres-naturelles:https://epanews.fr/profile/Jeanluc737
END:VEVENT
END:VCALENDAR
