BEGIN:VCALENDAR
PRODID:NingEventWidget-v1
VERSION:2.0
METHOD:PUBLISH
BEGIN:VTIMEZONE
TZID:Europe/Paris
X-LIC-LOCATION:Europe/Paris
BEGIN:DAYLIGHT
TZOFFSETFROM:+0100
TZOFFSETTO:+0200
TZNAME:CEST
DTSTART:19700329T020000
RRULE:FREQ=YEARLY;BYMONTH=3;BYDAY=-1SU
END:DAYLIGHT
BEGIN:STANDARD
TZOFFSETFROM:+0200
TZOFFSETTO:+0100
TZNAME:CET
DTSTART:19701025T030000
RRULE:FREQ=YEARLY;BYMONTH=10;BYDAY=-1SU
END:STANDARD
END:VTIMEZONE
BEGIN:VEVENT
UID:2485226:Event:2808263
DTSTAMP:20260422T075243Z
SUMMARY:Se reconnecter avec soi mÃªme : la croix d'incarnation .etc
DESCRIPTION:Inscription obligatoire auprÃ¨s de Source du bonheur au 06
  77 16 31 11Â  Participation 100â‚¬  Atelier animÃ© par Jean-FrÃ©dÃ©ri
 c Boullier, confÃ©rencier et coach de vie, auteur de \" l'Envol du par
 don\", \"Un prÃ©sent extraordinaire\", et \" Comment se reconcilier av
 ec soi-mÃªme\"  Programme :  09h30 DÃ©briefing commun sur lâ€™atelier 
 prÃ©cÃ©dentÂ   10h00- 12h15 La croix dâ€™Incarnation et son systÃ¨me Ã
 ‰nergÃ©tique (confÃ©rence) Comment Ã§Ã  marche ?Â   12h15-13h15 pause 
 repasÂ   13h15 â€“ 18h00 La position des planÃ¨tes le jour et lâ€™heur
 e de naissance dÃ©terminent notre profil Ã©nergÃ©tique sur nos diffÃ©r
 ents corps, permettant ainsi de mieux se connaÃ®tre et de mieux compre
 ndre les expÃ©riences passÃ©es et Ã  venir que nous projetons. Connais
 sance des 9 centres (reliÃ©s Ã  chacun de nos chakras et des douze pro
 fils types;  Chacun des participants devant Ã  lâ€™avance fournir sa d
 ate et lieu de naissance.  18h00 fin atelier\n\nPour plus d'informatio
 n, aller sur https://epanews.fr/events/se-reconnecter-avec-soi-m-me-la
 -croix-d-incarnation-etc
DTSTART;TZID=Europe/Paris:20170604T093000
DTEND;TZID=Europe/Paris:20170604T180000
CATEGORIES:34
LOCATION:montpellier centre
WEBSITE:http://www.sourcedubonheur.fr
URL:http://www.sourcedubonheur.fr
CONTACT:0677163111
ORGANIZER;CN=sb34:https://epanews.fr/profile/sb34
ATTACH;FMTTYPE="image/jpeg":http://storage.ning.com/topology/rest/1.0/
 file/get/1663651925?profile=original
ATTENDEE;ROLE=REQ-PARTICIPANT;PARTSTAT=ACCEPTED;RSVP=TRUE;CN=sb34:http
 s://epanews.fr/profile/sb34
END:VEVENT
END:VCALENDAR
