BEGIN:VCALENDAR
PRODID:NingEventWidget-v1
VERSION:2.0
METHOD:PUBLISH
BEGIN:VTIMEZONE
TZID:Europe/Paris
X-LIC-LOCATION:Europe/Paris
BEGIN:DAYLIGHT
TZOFFSETFROM:+0100
TZOFFSETTO:+0200
TZNAME:CEST
DTSTART:19700329T020000
RRULE:FREQ=YEARLY;BYMONTH=3;BYDAY=-1SU
END:DAYLIGHT
BEGIN:STANDARD
TZOFFSETFROM:+0200
TZOFFSETTO:+0100
TZNAME:CET
DTSTART:19701025T030000
RRULE:FREQ=YEARLY;BYMONTH=10;BYDAY=-1SU
END:STANDARD
END:VTIMEZONE
BEGIN:VEVENT
UID:2485226:Event:784306
DTSTAMP:20260422T052005Z
SUMMARY:Se rÃ©jouir et s'Ã©panouir avec l'autre.
DESCRIPTION:Se rÃ©jouir et s'Ã©panouir avec l'autreStage animÃ© par Mi
 chel BonhommeEn Ã©coutant nos tensions corporelles dans le mouvement e
 t dans le contact, en recontactant notre saine agressivitÃ©, nous libÃ
 ©rons nos ressources vitales.En explorant lâ€™imaginaire et sa dimensi
 on Ã©rotique nous rencontrons nos prÃ©fÃ©rences Ã©rotiques. Le changem
 ent commence Ã  partir du moment oÃ¹ nous cessons de vouloir Ãªtre un 
 autre.Nous relier Ã  notre Ãªtre profond et Ã  son expression Ã©motion
 nelle nous ouvre Ã  plus de sensibilitÃ©, de sensualitÃ© et de crÃ©ati
 vitÃ© pour une meilleure intimitÃ© et complicitÃ© avec lâ€™autre.Outil
 s : psychocorporel, la gestalt thÃ©rapie, la psycho-sexothÃ©rapie.Lâ€™
 accent est mis sur lâ€™affirmation et la confiance en soi, le dÃ©sir d
 u dÃ©sir, les moteurs de la jouissance et lâ€™interaction dans la rela
 tion.\n\nPour plus d'information, aller sur https://epanews.fr/events/
 se-r-jouir-et-s-panouir-avec-l-autre
DTSTART;TZID=Europe/Paris:20120516T000000
DTEND;TZID=Europe/Paris:20120520T235900
CATEGORIES:07
LOCATION:Lyon
WEBSITE:http://www.couple-amour-sexualite.com/les-stages/
URL:http://www.couple-amour-sexualite.com/les-stages/
CONTACT:06 14 01 72 96
ORGANIZER;CN="Le Village du lac":https://epanews.fr/profile/LeVillaged
 ulac
ATTACH;FMTTYPE="image/jpeg":http://storage.ning.com/topology/rest/1.0/
 file/get/1662599300?profile=original
ATTENDEE;ROLE=REQ-PARTICIPANT;PARTSTAT=ACCEPTED;RSVP=TRUE;CN="Le Villa
 ge du lac":https://epanews.fr/profile/LeVillagedulac
END:VEVENT
END:VCALENDAR
