BEGIN:VCALENDAR
PRODID:NingEventWidget-v1
VERSION:2.0
METHOD:PUBLISH
BEGIN:VTIMEZONE
TZID:Europe/Paris
X-LIC-LOCATION:Europe/Paris
BEGIN:DAYLIGHT
TZOFFSETFROM:+0100
TZOFFSETTO:+0200
TZNAME:CEST
DTSTART:19700329T020000
RRULE:FREQ=YEARLY;BYMONTH=3;BYDAY=-1SU
END:DAYLIGHT
BEGIN:STANDARD
TZOFFSETFROM:+0200
TZOFFSETTO:+0100
TZNAME:CET
DTSTART:19701025T030000
RRULE:FREQ=YEARLY;BYMONTH=10;BYDAY=-1SU
END:STANDARD
END:VTIMEZONE
BEGIN:VEVENT
UID:2485226:Event:2580217
DTSTAMP:20260421T164915Z
SUMMARY:saundariya : ayurveda & beauté
DESCRIPTION:Saundariya, la beauté, fait partie intégrante de la méd
 ecine traditionnelle Ayurvédique (Inde) où elle met en lumière que 
 la santé, l'harmonie et l'équilibre intérieur rayonnent à l'extér
 ieur (notre peau, nos cheveux, notre éclat..)  \nAu programme :\n- S
 aundariya : La beauté par l'Ayurveda - Ojas, l'élixir de beauté - D
 osha & types de peaux  - Rituels ayurvédiques de beauté \n- Recettes
  cosmétiques ayurvédiques\n- Massage du visage Saundariya (pratiqué
  en binômes)\nTarif : 60 euros \n\n\nPour plus d'information, aller s
 ur https://epanews.fr/events/saundariya-ayurveda-beaut
DTSTART;TZID=Europe/Paris:20160220T000000
DTEND;TZID=Europe/Paris:20160220T235900
CATEGORIES:30
LOCATION:Nimes
WEBSITE:http://anahatamassage.over-blog.com/
URL:http://anahatamassage.over-blog.com/
CONTACT:0664515525
ORGANIZER;CN=Elsa:https://epanews.fr/profile/Elsa555
ATTACH;FMTTYPE="image/jpeg":http://storage.ning.com/topology/rest/1.0/
 file/get/1663529761?profile=original
ATTENDEE;ROLE=REQ-PARTICIPANT;PARTSTAT=ACCEPTED;RSVP=TRUE;CN=Elsa:http
 s://epanews.fr/profile/Elsa555
END:VEVENT
END:VCALENDAR
