BEGIN:VCALENDAR
PRODID:NingEventWidget-v1
VERSION:2.0
METHOD:PUBLISH
BEGIN:VTIMEZONE
TZID:Europe/Paris
X-LIC-LOCATION:Europe/Paris
BEGIN:DAYLIGHT
TZOFFSETFROM:+0100
TZOFFSETTO:+0200
TZNAME:CEST
DTSTART:19700329T020000
RRULE:FREQ=YEARLY;BYMONTH=3;BYDAY=-1SU
END:DAYLIGHT
BEGIN:STANDARD
TZOFFSETFROM:+0200
TZOFFSETTO:+0100
TZNAME:CET
DTSTART:19701025T030000
RRULE:FREQ=YEARLY;BYMONTH=10;BYDAY=-1SU
END:STANDARD
END:VTIMEZONE
BEGIN:VEVENT
UID:2485226:Event:2094188
DTSTAMP:20260423T092642Z
SUMMARY:satsang avec conrad
DESCRIPTION:SATSANG avec Conrad le 24 novembre dans le Gard   Bienvenu
  au cÅ“ur du SatsangÂ   Â« ÃŠtre en prÃ©sence de la VÃ©ritÃ© Â»  Le Sa
 tsang[1] est une invitation Ã  devenir pleinement conscient en toute s
 implicitÃ©, de notre nature vÃ©ritable et essentielle, Ã  entrer en to
 tale prÃ©sence de la vÃ©ritÃ© qui est au cÅ“ur de qui nous sommes, Ã  
 accueillir de nous laisser traverser par le mouvement de vie qui nous 
 anime et nous habite Ã  chaque instant et Ã  nous remÃ©morer qui nous 
 sommes, dans la VÃ©ritÃ©, lâ€™UnitÃ© et la GlobalitÃ©.  Le cÅ“ur du Sa
 tsang est un espace oÃ¹ naissent des questionnements dont les rÃ©ponse
 s deviennent des enseignements Ã©clairant tant les auteurs des questio
 ns posÃ©es que le groupe tout entier. Ces moments de partages sont pon
 ctuÃ©s de mÃ©ditations en silence et de respirations guidÃ©es offrant 
 aux participants des temps dâ€™intÃ©gration et de recueillement pour s
 â€™accueillir et se retrouver dans lâ€™innocence et la puretÃ© de leur
  Ãªtre unique et sensible.  Au-delÃ  des reprÃ©sentations, des croyanc
 es, des conditionnements qui cloisonnent, limitent et nourrissent la d
 ualitÃ©, bien au delÃ  de la personne que nous imaginons Ãªtre, de la 
 vie que nous pensons vivre, et du Monde que nous croyons percevoir, au
  cÅ“ur de la paix et du silence intÃ©rieur, au cÅ“ur de lâ€™ici et mai
 ntenant, au cÅ“ur de notre cÅ“ur, notre part Divine, la Â« Source Â» q
 ui est en nous dissout et transmute toute illusion, tous les voiles dâ
 €™opacitÃ© qui encombrent notre conscience, tous les parasites qui nou
 s empÃªchent dâ€™Â« ÃŠtre Â», tout ce Ã  quoi nous nous identifions ma
 is que nous ne sommes pas, pour laisser Ã©merger qui nous sommes vÃ©ri
 tablement.  Dans cet espace de partage, au cÅ“ur de ce terreau fertile
  jaillit la pure LumiÃ¨re et la Sagesse Divine des Ãªtres qui souhaite
 nt se rÃ©-uni-fier[2], dans la Conscience de lâ€™Amour et de lâ€™UnitÃ
 ©.   [1] Satsang (sanskrit Sat = rÃ©alitÃ©, vÃ©ritÃ© et Etre. Saá¹…gha
  = compagnie, assemblÃ©e, rassembler.), signifie Â« Ãªtre en compagnie
  de la vÃ©ritÃ© Â», et par extension Â« compagnie de la vÃ©ritÃ© qui e
 st en soi Â» ou Â« rassembler le vrai en soi Â». Le terme dÃ©signe les
  assemblÃ©es qui se constituent autour dâ€™une personne dont lâ€™ensei
 gnement est fondÃ© sur les principes de la non-dualitÃ©. Il peut y avo
 ir des Ã©changes, des questions, des moments de silence ou de mÃ©ditat
 ion. Le Satsang est hors de tout dogme religieux, mouvement spirituel 
 ou pratique sectaire.  [2] rÃ©-uni-fier : se fier de nouveau Ã  lâ€™un
 itÃ©, quitter la dualitÃ© pour accÃ©der Ã  la non dualitÃ©  pour en sa
 voir plus ou pour vous y inscrire, nous vous invitons a jondre les per
 sonnes ici:Â www.conrad-a.com/stages-et-conferences/calendrier\n\nPour
  plus d'information, aller sur https://epanews.fr/events/satsang-avec-
 conrad
DTSTART;TZID=Europe/Paris:20141124T090000
DTEND;TZID=Europe/Paris:20141124T170000
CATEGORIES:31
LOCATION:gard
WEBSITE:http://www.conrad-a.com/stages-et-conferences/calendrier
URL:http://www.conrad-a.com/stages-et-conferences/calendrier
CONTACT:
ORGANIZER;CN=CONRAD:https://epanews.fr/profile/CONRAD
ATTACH;FMTTYPE="image/jpeg":http://storage.ning.com/topology/rest/1.0/
 file/get/1663242531?profile=original
ATTENDEE;ROLE=REQ-PARTICIPANT;PARTSTAT=ACCEPTED;RSVP=TRUE;CN=CONRAD:ht
 tps://epanews.fr/profile/CONRAD
END:VEVENT
END:VCALENDAR
