BEGIN:VCALENDAR
PRODID:NingEventWidget-v1
VERSION:2.0
METHOD:PUBLISH
BEGIN:VTIMEZONE
TZID:Europe/Paris
X-LIC-LOCATION:Europe/Paris
BEGIN:DAYLIGHT
TZOFFSETFROM:+0100
TZOFFSETTO:+0200
TZNAME:CEST
DTSTART:19700329T020000
RRULE:FREQ=YEARLY;BYMONTH=3;BYDAY=-1SU
END:DAYLIGHT
BEGIN:STANDARD
TZOFFSETFROM:+0200
TZOFFSETTO:+0100
TZNAME:CET
DTSTART:19701025T030000
RRULE:FREQ=YEARLY;BYMONTH=10;BYDAY=-1SU
END:STANDARD
END:VTIMEZONE
BEGIN:VEVENT
UID:2485226:Event:1037868
DTSTAMP:20260422T072937Z
SUMMARY:SAT SANG rencontre de vérité
DESCRIPTION:tous les mardis  de 19 h à 20 heures\n  Venez rencontrer
  d’autres personnes et partager vos expériences.  Nous abordons de
 s sujets importants de la vie qui nous touchent tous et nous traversen
 t le cœur et l’esprit: \n\nLe Bonheur, Karma, L’Eveille, L’Arg
 ent, Naissance, Morts, Amour, La Peur, Réincarnation, etc.\n mardi 11
  Décembre  Réincarnation  Vous pouvez soumettre d’autres sujets
  pour les prochaines rencontres. \nLa boutique des Indes\ndepuis 1991
 \n20, bd du Maréchal Joffre\n92500 Rueil-Malmaison\ntél : 01 47 49 1
 7 11\ngsm : 06 81 29 27 41\nsadanand.kesri@gmail.com\nboutiquedesindes
 @msn.com\n(participation symbolique de 10€) \n\nPour plus d'informa
 tion, aller sur https://epanews.fr/events/sat-sang-rencontre-de-v-rit
DTSTART;TZID=Europe/Paris:20121211T190000
DTEND;TZID=Europe/Paris:20121211T200000
CATEGORIES:tous
LOCATION:RUEILMALMAISON FRANCE
WEBSITE:http://indianmeditation.laboutiquedesindes.fr/
URL:http://indianmeditation.laboutiquedesindes.fr/
CONTACT:00 33 1 47491711
ORGANIZER;CN=sadhu:https://epanews.fr/profile/sadhu
ATTACH;FMTTYPE="image/jpeg":http://storage.ning.com/topology/rest/1.0/
 file/get/1662711012?profile=original
ATTENDEE;ROLE=REQ-PARTICIPANT;PARTSTAT=ACCEPTED;RSVP=TRUE;CN=sadhu:htt
 ps://epanews.fr/profile/sadhu
END:VEVENT
END:VCALENDAR
