BEGIN:VCALENDAR
PRODID:NingEventWidget-v1
VERSION:2.0
METHOD:PUBLISH
BEGIN:VTIMEZONE
TZID:Europe/Paris
X-LIC-LOCATION:Europe/Paris
BEGIN:DAYLIGHT
TZOFFSETFROM:+0100
TZOFFSETTO:+0200
TZNAME:CEST
DTSTART:19700329T020000
RRULE:FREQ=YEARLY;BYMONTH=3;BYDAY=-1SU
END:DAYLIGHT
BEGIN:STANDARD
TZOFFSETFROM:+0200
TZOFFSETTO:+0100
TZNAME:CET
DTSTART:19701025T030000
RRULE:FREQ=YEARLY;BYMONTH=10;BYDAY=-1SU
END:STANDARD
END:VTIMEZONE
BEGIN:VEVENT
UID:2485226:Event:2482738
DTSTAMP:20260422T205936Z
SUMMARY:Sans Ã©go, qui sommes-nous ?
DESCRIPTION:SoirÃ©e Ã©changes avec la Rose-Croix d'Or sur le thÃ¨me :\
 nSans Ã©go, qui sommes-nous ?\nAvez-vous dÃ©jÃ  ressenti les limitatio
 ns Ã©gotiques qui animent lâ€™Ãªtre humainÂ ?  Pour autant, est-il pos
 sibleÂ  de vivre sans egoÂ ? Â Et si se tourner vers lâ€™Autre, le jum
 eau cÃ©leste, pouvait permettre de dÃ©passer lâ€™emprise de nos condit
 ionnementsÂ ?\nAlors Â«Â ÃŠtre dans ce monde mais plus de ce mondeÂ Â»
  pour vivre de et par Lâ€™AMOURÂ  est un fait!\nEt si nous nous retrou
 vions pour Ã©changer sur ce thÃ¨meÂ ?\n - Â Â Â Â Â NANTESÂ : Jeudi 19
 /11 Ã  20h00 Â Â Â Â Â Â Â Â Â Â Â  A la Librairie Gemmes des Archange
 s Â Â Â Â Â Â Â Â Â Â Â  19 ChaussÃ©e de la Madeleine  Â Â Â Â   Â  -Â
  Â Â Â Â  SKYPEÂ : Lundi 30/11 Ã  20H00\nÂ Â  (Participation 5â‚¬, dem
 andeurs dâ€™emploi, Ã©tudiants 2â‚¬)\n\nPour plus d'information, aller
  sur https://epanews.fr/events/sans-go-qui-sommes-nous-4
DTSTART;TZID=Europe/Paris:20151119T200000
DTEND;TZID=Europe/Paris:20151119T223000
CATEGORIES:44
LOCATION:la Librairie Gemmes des Archanges
WEBSITE:http://www.rose-croix-d-or.org/rencontres
URL:http://www.rose-croix-d-or.org/rencontres
CONTACT:0660059797
ORGANIZER;CN=RoseCroix:https://epanews.fr/profile/RoseCroix
ATTACH;FMTTYPE="image/jpeg":http://storage.ning.com/topology/rest/1.0/
 file/get/1663483561?profile=original
ATTENDEE;ROLE=REQ-PARTICIPANT;PARTSTAT=ACCEPTED;RSVP=TRUE;CN=RoseCroix
 :https://epanews.fr/profile/RoseCroix
END:VEVENT
END:VCALENDAR
