BEGIN:VCALENDAR
PRODID:NingEventWidget-v1
VERSION:2.0
METHOD:PUBLISH
BEGIN:VTIMEZONE
TZID:Europe/Paris
X-LIC-LOCATION:Europe/Paris
BEGIN:DAYLIGHT
TZOFFSETFROM:+0100
TZOFFSETTO:+0200
TZNAME:CEST
DTSTART:19700329T020000
RRULE:FREQ=YEARLY;BYMONTH=3;BYDAY=-1SU
END:DAYLIGHT
BEGIN:STANDARD
TZOFFSETFROM:+0200
TZOFFSETTO:+0100
TZNAME:CET
DTSTART:19701025T030000
RRULE:FREQ=YEARLY;BYMONTH=10;BYDAY=-1SU
END:STANDARD
END:VTIMEZONE
BEGIN:VEVENT
UID:2485226:Event:2482652
DTSTAMP:20260422T032514Z
SUMMARY:Sans Ã©go, qui sommes-nous ?
DESCRIPTION:SoirÃ©e Ã©changes avec la Rose-Croix d'Or sur le thÃ¨me :\
 nSans Ã©go, qui sommes-nous ?\nAvez-vous dÃ©jÃ  ressenti les limitatio
 ns Ã©gotiques qui animent lâ€™Ãªtre humainÂ ?  Pour autant, est-il pos
 sibleÂ  de vivre sans egoÂ ? Â Et si se tourner vers lâ€™Autre, le jum
 eau cÃ©leste, pouvait permettre de dÃ©passer lâ€™emprise de nos condit
 ionnementsÂ ?\nAlors Â«Â ÃŠtre dans ce monde mais plus de ce mondeÂ Â»
  pour vivre de et par Lâ€™AMOURÂ  est un fait!\nEt si nous nous retrou
 vions pour Ã©changer sur ce thÃ¨meÂ ?\n-Â Â Â Â Â Â  LA ROCHE SUR YONÂ
  : Mardi 17/11 Ã  20H00 Â Â Â Â Â Â Â Â Â Â Â  Au Kyriad HÃ´tel  Â Â Â
  Â Â Â Â Â Â Â Â  Bd Arago  Â  -Â Â Â Â Â  SKYPEÂ : Lundi 30/11 Ã  20H
 00\nÂ Â  (Participation 5â‚¬, demandeurs dâ€™emploi, Ã©tudiants 2â‚¬)\
 n\nPour plus d'information, aller sur https://epanews.fr/events/sans-g
 o-qui-sommes-nous-2
DTSTART;TZID=Europe/Paris:20151117T200000
DTEND;TZID=Europe/Paris:20151117T223000
CATEGORIES:85
LOCATION:Kyriad hÃ´tel
WEBSITE:http://www.rose-croix-d-or.org/rencontres
URL:http://www.rose-croix-d-or.org/rencontres
CONTACT:0660059797
ORGANIZER;CN=RoseCroix:https://epanews.fr/profile/RoseCroix
ATTACH;FMTTYPE="image/jpeg":http://storage.ning.com/topology/rest/1.0/
 file/get/1663483561?profile=original
ATTENDEE;ROLE=REQ-PARTICIPANT;PARTSTAT=ACCEPTED;RSVP=TRUE;CN=RoseCroix
 :https://epanews.fr/profile/RoseCroix
END:VEVENT
END:VCALENDAR
