BEGIN:VCALENDAR
PRODID:NingEventWidget-v1
VERSION:2.0
METHOD:PUBLISH
BEGIN:VTIMEZONE
TZID:Europe/Paris
X-LIC-LOCATION:Europe/Paris
BEGIN:DAYLIGHT
TZOFFSETFROM:+0100
TZOFFSETTO:+0200
TZNAME:CEST
DTSTART:19700329T020000
RRULE:FREQ=YEARLY;BYMONTH=3;BYDAY=-1SU
END:DAYLIGHT
BEGIN:STANDARD
TZOFFSETFROM:+0200
TZOFFSETTO:+0100
TZNAME:CET
DTSTART:19701025T030000
RRULE:FREQ=YEARLY;BYMONTH=10;BYDAY=-1SU
END:STANDARD
END:VTIMEZONE
BEGIN:VEVENT
UID:2485226:Event:2792557
DTSTAMP:20260422T121632Z
SUMMARY:Sandra Rouyer
DESCRIPTION:Concert%20Hameau%20la%20Sabli%C3%A8re.jpg\nConcert confér
 ence dédicace du pianiste Marc VELLA\n\nPour plus d'information, alle
 r sur https://epanews.fr/events/sandra-rouyer
DTSTART;TZID=Europe/Paris:20170609T203000
DTEND;TZID=Europe/Paris:20170609T230000
CATEGORIES:48
LOCATION:Hameau la Sablière Gorges du Tarn 48150
WEBSITE:https://www.google.fr/maps/place/Le+Hameau+de+la+Sabli%C3%A8re
 +-+Association+Essentielle/@44.223493,3.2265633,17z/data=!3m1!4b1!4m5!
 3m4!1s0x12b3afb82dea61e1:0xdaedd4d1c83f636c!8m2!3d44.223493!4d3.228752
 ?hl=fr
URL:https://www.google.fr/maps/place/Le+Hameau+de+la+Sabli%C3%A8re+-+A
 ssociation+Essentielle/@44.223493,3.2265633,17z/data=!3m1!4b1!4m5!3m4!
 1s0x12b3afb82dea61e1:0xdaedd4d1c83f636c!8m2!3d44.223493!4d3.228752?hl=
 fr
CONTACT:06 74 51 50 99
ORGANIZER:
ATTACH;FMTTYPE="image/jpeg":
ATTENDEE;ROLE=REQ-PARTICIPANT;PARTSTAT=ACCEPTED;RSVP=TRUE;CN="Sandra R
 ouyer":https://epanews.fr/profile/SandraRouyer
END:VEVENT
END:VCALENDAR
