BEGIN:VCALENDAR
PRODID:NingEventWidget-v1
VERSION:2.0
METHOD:PUBLISH
BEGIN:VTIMEZONE
TZID:Europe/Paris
X-LIC-LOCATION:Europe/Paris
BEGIN:DAYLIGHT
TZOFFSETFROM:+0100
TZOFFSETTO:+0200
TZNAME:CEST
DTSTART:19700329T020000
RRULE:FREQ=YEARLY;BYMONTH=3;BYDAY=-1SU
END:DAYLIGHT
BEGIN:STANDARD
TZOFFSETFROM:+0200
TZOFFSETTO:+0100
TZNAME:CET
DTSTART:19701025T030000
RRULE:FREQ=YEARLY;BYMONTH=10;BYDAY=-1SU
END:STANDARD
END:VTIMEZONE
BEGIN:VEVENT
UID:2485226:Event:1335101
DTSTAMP:20260422T053116Z
SUMMARY:sanctuaires et tellurisme des hauts lieux mégalithiques du mi
 nervois
DESCRIPTION: ; ; ; ; ; ; ; ; ; ; ; ; ; ; ; ; ;\nLE SA
 MEDI 11 MAI à 20h00\nSanctuaires et Tellurisme des hauts lieux mégal
 ithiques du Minervois (Aude) Notre Dame de Marceille à Limoux, Rotond
 e heptagonale de Rieux-Minervois, le menhir de Malves, l’allée couv
 erte de Saint Eugène Avec Nicolas de LEON\nParticipation : 5 Euros
 \n ; ; ; ; ; ; ; ; ; ; ; ; ; ; ; ; ; ; ; ; ; ;\n
 \nPour plus d'information, aller sur https://epanews.fr/events/sanctua
 ires-et-tellurisme-des-hauts-lieux-m-galithiques-du
DTSTART;TZID=Europe/Paris:20130511T200000
DTEND;TZID=Europe/Paris:20130511T220000
CATEGORIES:11
LOCATION:RENNES LES BAINS
WEBSITE:http://www.debowska.fr
URL:http://www.debowska.fr
CONTACT:
ORGANIZER:DEBOWSKA PRODUCTIONS
ATTACH;FMTTYPE="image/jpeg":
ATTENDEE;ROLE=REQ-PARTICIPANT;PARTSTAT=ACCEPTED;RSVP=TRUE;CN=MIR:https
 ://epanews.fr/profile/MIR282
END:VEVENT
END:VCALENDAR
