BEGIN:VCALENDAR
PRODID:NingEventWidget-v1
VERSION:2.0
METHOD:PUBLISH
BEGIN:VTIMEZONE
TZID:Europe/Paris
X-LIC-LOCATION:Europe/Paris
BEGIN:DAYLIGHT
TZOFFSETFROM:+0100
TZOFFSETTO:+0200
TZNAME:CEST
DTSTART:19700329T020000
RRULE:FREQ=YEARLY;BYMONTH=3;BYDAY=-1SU
END:DAYLIGHT
BEGIN:STANDARD
TZOFFSETFROM:+0200
TZOFFSETTO:+0100
TZNAME:CET
DTSTART:19701025T030000
RRULE:FREQ=YEARLY;BYMONTH=10;BYDAY=-1SU
END:STANDARD
END:VTIMEZONE
BEGIN:VEVENT
UID:2485226:Event:176747
DTSTAMP:20260425T162131Z
SUMMARY:Samedis Méditations
DESCRIPTION:le rendez vous du premier samedi du mois se poursuit en 20
 11 (nouvel an oblige le  samedi 8 en janvier).\nPour les nouveaux les
  journées medit se déroulent de 10h à 17 h à coté de plan de camp
 agne, paf:5 euros.\nLes médits sont variées et pas seulement assises
 ,chacun arrive avec son repas de midi et si possible son matériel: za
 fu, tenue ample.....\nPour plus de précisions ,mon tel 0629990302\nBo
 nne fin d'année et beaucoup de surprises douces au coeur en 2011.\nBe
 rnard\n\nPour plus d'information, aller sur https://epanews.fr/events/
 samedis-meditations
DTSTART;TZID=Europe/Paris:20110108T100000
DTEND;TZID=Europe/Paris:20110108T170000
CATEGORIES:13
LOCATION:Aix Marseille
WEBSITE:
URL:
CONTACT:
ORGANIZER;CN=chrisianber:https://epanews.fr/profile/christianber
ATTACH;FMTTYPE="image/jpeg":
ATTENDEE;ROLE=REQ-PARTICIPANT;PARTSTAT=ACCEPTED;RSVP=TRUE;CN=chrisianb
 er:https://epanews.fr/profile/christianber
ATTENDEE;ROLE=REQ-PARTICIPANT;PARTSTAT=TENTATIVE;RSVP=TRUE;CN=Oriane:h
 ttps://epanews.fr/profile/Oriane
END:VEVENT
END:VCALENDAR
