BEGIN:VCALENDAR
PRODID:NingEventWidget-v1
VERSION:2.0
METHOD:PUBLISH
BEGIN:VTIMEZONE
TZID:Europe/Paris
X-LIC-LOCATION:Europe/Paris
BEGIN:DAYLIGHT
TZOFFSETFROM:+0100
TZOFFSETTO:+0200
TZNAME:CEST
DTSTART:19700329T020000
RRULE:FREQ=YEARLY;BYMONTH=3;BYDAY=-1SU
END:DAYLIGHT
BEGIN:STANDARD
TZOFFSETFROM:+0200
TZOFFSETTO:+0100
TZNAME:CET
DTSTART:19701025T030000
RRULE:FREQ=YEARLY;BYMONTH=10;BYDAY=-1SU
END:STANDARD
END:VTIMEZONE
BEGIN:VEVENT
UID:2485226:Event:2025052
DTSTAMP:20260421T100446Z
SUMMARY:Salon Zen et Qi
DESCRIPTION:Un salon original marqué par la présence de lamas tibét
 ain et de professionnels du bien être. Une grande yourte pour les con
 tes et ateliers, des conférences et Daniel Givone en concert le samed
 i 4 octobre.\n\nPour plus d'information, aller sur https://epanews.fr/
 events/salon-zen-et-qi
DTSTART;TZID=Europe/Paris:20141001T203000
DTEND;TZID=Europe/Paris:20141005T170000
CATEGORIES:44
LOCATION:Le Cellier salle W.Turner
WEBSITE:http://www.zen-et-qi.fr/salon2014.htm
URL:http://www.zen-et-qi.fr/salon2014.htm
CONTACT:0628075460
ORGANIZER;CN="Phinuel Desjeux":https://epanews.fr/profile/PhinuelDesje
 ux
ATTACH;FMTTYPE="image/jpeg":http://storage.ning.com/topology/rest/1.0/
 file/get/1663205149?profile=original
ATTENDEE;ROLE=REQ-PARTICIPANT;PARTSTAT=ACCEPTED;RSVP=TRUE;CN="Phinuel 
 Desjeux":https://epanews.fr/profile/PhinuelDesjeux
END:VEVENT
END:VCALENDAR
