BEGIN:VCALENDAR
PRODID:NingEventWidget-v1
VERSION:2.0
METHOD:PUBLISH
BEGIN:VTIMEZONE
TZID:Europe/Paris
X-LIC-LOCATION:Europe/Paris
BEGIN:DAYLIGHT
TZOFFSETFROM:+0100
TZOFFSETTO:+0200
TZNAME:CEST
DTSTART:19700329T020000
RRULE:FREQ=YEARLY;BYMONTH=3;BYDAY=-1SU
END:DAYLIGHT
BEGIN:STANDARD
TZOFFSETFROM:+0200
TZOFFSETTO:+0100
TZNAME:CET
DTSTART:19701025T030000
RRULE:FREQ=YEARLY;BYMONTH=10;BYDAY=-1SU
END:STANDARD
END:VTIMEZONE
BEGIN:VEVENT
UID:2485226:Event:472553
DTSTAMP:20260422T235227Z
SUMMARY:Salon Zen - 29 septembre au 3 octobre - Espace Champerret
DESCRIPTION:Les cartes des Archanges, des 72 anges et des Saints seron
 t disponibles au stand de l'Univers d'Esther lors du Salon Zen.  Pour
  un aperçu de nos 72 nouvelles cartes, rendez-vous sur FACEBOOK, page
  des Saints et des archanges!!\nSaints et Archanges\n\nPour plus d'inf
 ormation, aller sur https://epanews.fr/events/salon-zen-29-septembre-a
 u-3-octobre-espace-champerret
DTSTART;TZID=Europe/Paris:20110928T180000
DTEND;TZID=Europe/Paris:20111004T190000
CATEGORIES:75017
LOCATION:Paris
WEBSITE:http://www.salon-zen.fr/infos.html
URL:http://www.salon-zen.fr/infos.html
CONTACT:
ORGANIZER:Salon Zen
ATTACH;FMTTYPE="image/jpeg":
ATTENDEE;ROLE=REQ-PARTICIPANT;PARTSTAT=ACCEPTED;RSVP=TRUE;CN="Mathilde
  SCHLEMIEL":https://epanews.fr/profile/DupiletChristiane
ATTENDEE;ROLE=REQ-PARTICIPANT;PARTSTAT=ACCEPTED;RSVP=TRUE;CN=Archanges
 :https://epanews.fr/profile/Archanges
END:VEVENT
END:VCALENDAR
