BEGIN:VCALENDAR
PRODID:NingEventWidget-v1
VERSION:2.0
METHOD:PUBLISH
BEGIN:VTIMEZONE
TZID:Europe/Paris
X-LIC-LOCATION:Europe/Paris
BEGIN:DAYLIGHT
TZOFFSETFROM:+0100
TZOFFSETTO:+0200
TZNAME:CEST
DTSTART:19700329T020000
RRULE:FREQ=YEARLY;BYMONTH=3;BYDAY=-1SU
END:DAYLIGHT
BEGIN:STANDARD
TZOFFSETFROM:+0200
TZOFFSETTO:+0100
TZNAME:CET
DTSTART:19701025T030000
RRULE:FREQ=YEARLY;BYMONTH=10;BYDAY=-1SU
END:STANDARD
END:VTIMEZONE
BEGIN:VEVENT
UID:2485226:Event:2319953
DTSTAMP:20260425T130754Z
SUMMARY:salon nature et bien-Ãªtre Ã  villefranche de rouergue
DESCRIPTION:Salon Nature et bien Ãªtre avec 40 stands thÃ©rapeutes et 
 exposants, restauration vÃ©gÃ©tarienne, bar Ã  jus, Ã©lixirs floraux, 
 peintures d'Ã¢me, naturopathie, biodanza, rÃ©seau Ã©change, ayurvÃ©da,
  astro, aloevera, lampes Ã  sel, psychothÃ©rapeute, chamanisme,art thÃ
 ©rapie, Ã©quithÃ©rapie, shiatsu, EFT, rÃ©flexologie\n13 confÃ©rences d
 ont le coeur d'URUGUAY samedi Ã  17 h\nEntrÃ©e libre les samedi de 9h4
 5 Ã  19h30 et dimanche de 10h Ã  18h30\nresa 06 48 80 97 47\n\nPour pl
 us d'information, aller sur https://epanews.fr/events/salon-nature-et-
 bien-tre-villefranche-de-rouergue
DTSTART;TZID=Europe/Paris:20150516T000000
DTEND;TZID=Europe/Paris:20150517T235900
CATEGORIES:12
LOCATION:sous la halle
WEBSITE:http://www.lesjardiniersduparadis.org
URL:http://www.lesjardiniersduparadis.org
CONTACT:0648809747
ORGANIZER;CN="isabelle Rose":https://epanews.fr/profile/isabelleRose
ATTACH;FMTTYPE="image/jpeg":http://storage.ning.com/topology/rest/1.0/
 file/get/1663396920?profile=original
ATTENDEE;ROLE=REQ-PARTICIPANT;PARTSTAT=ACCEPTED;RSVP=TRUE;CN="isabelle
  Rose":https://epanews.fr/profile/isabelleRose
END:VEVENT
END:VCALENDAR
