BEGIN:VCALENDAR
PRODID:NingEventWidget-v1
VERSION:2.0
METHOD:PUBLISH
BEGIN:VTIMEZONE
TZID:Europe/Paris
X-LIC-LOCATION:Europe/Paris
BEGIN:DAYLIGHT
TZOFFSETFROM:+0100
TZOFFSETTO:+0200
TZNAME:CEST
DTSTART:19700329T020000
RRULE:FREQ=YEARLY;BYMONTH=3;BYDAY=-1SU
END:DAYLIGHT
BEGIN:STANDARD
TZOFFSETFROM:+0200
TZOFFSETTO:+0100
TZNAME:CET
DTSTART:19701025T030000
RRULE:FREQ=YEARLY;BYMONTH=10;BYDAY=-1SU
END:STANDARD
END:VTIMEZONE
BEGIN:VEVENT
UID:2485226:Event:1813487
DTSTAMP:20260422T032452Z
SUMMARY:Salon Esprit Bien Etre
DESCRIPTION:Le salon du bien-être de Frouzins : les entrées sont gra
 tuites !  Le Pôle thérapeuthes qui comptent 17 professionnels vous a
 ccueillent et vous feront découvrir leur pratique grâce au FORFAIT B
 IEN ETRE (3 praticiens au choix pour 25€) NE TARDEZ PLUS A VOUS PROC
 URER LE VÔTRE !!! Nombreuses conférences en ACCÈS LIBRE Plus de 50 
 exposants professionnels du bien être et du développement personnel 
 Consultez le programme et toutes les infos sur http://salon-esprit-bie
 n-etre.fr/ Venez nous rencontrer !!! Nous serons ravis de vous accueil
 lir !!!\n\nPour plus d'information, aller sur https://epanews.fr/event
 s/salon-esprit-bien-etre
DTSTART;TZID=Europe/Paris:20140419T000000
DTEND;TZID=Europe/Paris:20140421T235900
CATEGORIES:31
LOCATION:frouzins
WEBSITE:https://maps.google.fr/maps?q=route+de+plaisance+frouzins&ie=U
 TF8&oe=utf-8&client=firefox-a&channel=sb&hnear=Route+de+Plaisance,+Fro
 uzins,+Haute-Garonne,+Midi-Pyr%C3%A9n%C3%A9es&gl=fr&t=m&z=15
URL:https://maps.google.fr/maps?q=route+de+plaisance+frouzins&ie=UTF8&
 oe=utf-8&client=firefox-a&channel=sb&hnear=Route+de+Plaisance,+Frouzin
 s,+Haute-Garonne,+Midi-Pyr%C3%A9n%C3%A9es&gl=fr&t=m&z=15
CONTACT:
ORGANIZER:Zen la Vie
ATTACH;FMTTYPE="image/jpeg":http://storage.ning.com/topology/rest/1.0/
 file/get/1663082378?profile=original
ATTENDEE;ROLE=REQ-PARTICIPANT;PARTSTAT=ACCEPTED;RSVP=TRUE;CN="Toulou Z
 en":https://epanews.fr/profile/ToulouZen
END:VEVENT
END:VCALENDAR
