BEGIN:VCALENDAR
PRODID:NingEventWidget-v1
VERSION:2.0
METHOD:PUBLISH
BEGIN:VTIMEZONE
TZID:Europe/Paris
X-LIC-LOCATION:Europe/Paris
BEGIN:DAYLIGHT
TZOFFSETFROM:+0100
TZOFFSETTO:+0200
TZNAME:CEST
DTSTART:19700329T020000
RRULE:FREQ=YEARLY;BYMONTH=3;BYDAY=-1SU
END:DAYLIGHT
BEGIN:STANDARD
TZOFFSETFROM:+0200
TZOFFSETTO:+0100
TZNAME:CET
DTSTART:19701025T030000
RRULE:FREQ=YEARLY;BYMONTH=10;BYDAY=-1SU
END:STANDARD
END:VTIMEZONE
BEGIN:VEVENT
UID:2485226:Event:147791
DTSTAMP:20260421T113220Z
SUMMARY:salon Eco bien être - conférences sur l'eau et les élément
 s
DESCRIPTION:Sur le salon Eco bien être - Ecosystème.\n\nCo-auteur et
  producteur d'une série de films documentaires sur l'eau, chercheur i
 ndépendant, j'expose en conférence. Je propose une synthèse dans le
  domaine de l'eau, en abordant le sujet sous différentes approches. D
 es découvertes scientifiques aux expériences sur le vivant, les suje
 ts comme le plasma marin, la filtration, les mesures, la dynamisation,
  la cristallisation, la mémoire de l'eau sont au programme.\nL'approf
 ondissement de mes recherches me permettent de donner une nouvelle vis
 ion de l'eau dans une perception globale incluant les 4 éléments fon
 damentaux (terre, eau, feu et air). Cette ouverture apporte la simplic
 ité de compréhension de toute expérience de vie.\nUne expérience d
 e dynamisation de l'eau par l'intention peut-être proposée en direct
  lors de la conférence.\n\nPour plus d'information, aller sur https:/
 /epanews.fr/events/salon-eco-bien-etre
DTSTART;TZID=Europe/Paris:20101113T000000
DTEND;TZID=Europe/Paris:20101114T235900
CATEGORIES:65
LOCATION:parc des expositions
WEBSITE:http://www.wmaker.net/ecobienetre/
URL:http://www.wmaker.net/ecobienetre/
CONTACT:06 67 65 53 60
ORGANIZER:les salons éco bien être - conférences sur l'eau Loïc Sa
 llet
ATTACH;FMTTYPE="image/jpeg":http://storage.ning.com/topology/rest/1.0/
 file/get/1662357503?profile=original
ATTENDEE;ROLE=REQ-PARTICIPANT;PARTSTAT=ACCEPTED;RSVP=TRUE;CN="Loïc Sa
 llet":https://epanews.fr/profile/LoicSallet
END:VEVENT
END:VCALENDAR
