BEGIN:VCALENDAR
PRODID:NingEventWidget-v1
VERSION:2.0
METHOD:PUBLISH
BEGIN:VTIMEZONE
TZID:Europe/Paris
X-LIC-LOCATION:Europe/Paris
BEGIN:DAYLIGHT
TZOFFSETFROM:+0100
TZOFFSETTO:+0200
TZNAME:CEST
DTSTART:19700329T020000
RRULE:FREQ=YEARLY;BYMONTH=3;BYDAY=-1SU
END:DAYLIGHT
BEGIN:STANDARD
TZOFFSETFROM:+0200
TZOFFSETTO:+0100
TZNAME:CET
DTSTART:19701025T030000
RRULE:FREQ=YEARLY;BYMONTH=10;BYDAY=-1SU
END:STANDARD
END:VTIMEZONE
BEGIN:VEVENT
UID:2485226:Event:1402713
DTSTAMP:20260423T111001Z
SUMMARY:Salon e-ki-libre
DESCRIPTION:Salon organisÃ© entre Saint-Cyr et Bandol, Ã  l'ESPACE RAM
 PAL, prendre l'entrÃ©e du Golf/la FrÃ©gate et tourner immÃ©diatement Ã
   gauche.\nNombreux stands (voir sur le site e-ki-libre)\nEntrÃ©e grat
 uite.\n\nPour plus d'information, aller sur https://epanews.fr/events/
 salon-e-ki-libre
DTSTART;TZID=Europe/Paris:20130607T103000
DTEND;TZID=Europe/Paris:20130608T200000
CATEGORIES:13, 83
LOCATION:SAINT-CYR 83
WEBSITE:
URL:
CONTACT:
ORGANIZER:Laurence CAMILLERI
ATTACH;FMTTYPE="image/jpeg":
ATTENDEE;ROLE=REQ-PARTICIPANT;PARTSTAT=ACCEPTED;RSVP=TRUE;CN=Daimyo:ht
 tps://epanews.fr/profile/Ghilwen
END:VEVENT
END:VCALENDAR
