BEGIN:VCALENDAR
PRODID:NingEventWidget-v1
VERSION:2.0
METHOD:PUBLISH
BEGIN:VTIMEZONE
TZID:Europe/Paris
X-LIC-LOCATION:Europe/Paris
BEGIN:DAYLIGHT
TZOFFSETFROM:+0100
TZOFFSETTO:+0200
TZNAME:CEST
DTSTART:19700329T020000
RRULE:FREQ=YEARLY;BYMONTH=3;BYDAY=-1SU
END:DAYLIGHT
BEGIN:STANDARD
TZOFFSETFROM:+0200
TZOFFSETTO:+0100
TZNAME:CET
DTSTART:19701025T030000
RRULE:FREQ=YEARLY;BYMONTH=10;BYDAY=-1SU
END:STANDARD
END:VTIMEZONE
BEGIN:VEVENT
UID:2485226:Event:231972
DTSTAMP:20260423T210112Z
SUMMARY:Salon du Bien-ÃŠtre Ã  Dammarie-les-lys
DESCRIPTION:FormeÂ Â Â Â Â SantÃ©Â Â Â Â Â  Produits BioÂ Â Â Â Â Â Â 
 Â Â  ThÃ©rapeutesÂ Â Â Â Â Â Â Â Â Â Â Â Â Â Â Â Â Â Â Â Â Â Â Â Â Â Â
   ConfÃ©rences- 11 h \" Vous avez dit MÃ©diter?\" M.A. ABRAS- 12h \" L
 es bienfaits de l'eau Kangen\" S.Vaudenay- 13h \" L'AloÃ© Vera\" Pasca
 l l'etang- 14 h \" DÃ©couvrir la RÃ©flexologie plantaire\" Chantal Seg
 aert- 15h \" Avec le ReÃ¯ki, soyez co-crÃ©ateur et autonome pour votre
  mieux-Ãªtre\" Sylvie Vaudenay-16h \" Atelier Chi Chuan\"- 17 h \" ÃŠt
 re soi-mÃªme au travers de la danse Bien-Ãªtre\" Catherine Graf- 18h \
 " Je me dÃ©tends grÃ¢ce Ã  ma respiration\" MC Maleng\n\nPour plus d'i
 nformation, aller sur https://epanews.fr/events/salon-du-bienetre-a
DTSTART;TZID=Europe/Paris:20110320T000000
DTEND;TZID=Europe/Paris:20110320T235900
CATEGORIES:77
LOCATION:PARIS
WEBSITE:
URL:
CONTACT:
ORGANIZER:
ATTACH;FMTTYPE="image/jpeg":http://storage.ning.com/topology/rest/1.0/
 file/get/1662396850?profile=original
ATTENDEE;ROLE=REQ-PARTICIPANT;PARTSTAT=ACCEPTED;RSVP=TRUE;CN="Graf-Eco
 ublet Catherine":https://epanews.fr/profile/GRAFECOUBLETCatherine
END:VEVENT
END:VCALENDAR
