BEGIN:VCALENDAR
PRODID:NingEventWidget-v1
VERSION:2.0
METHOD:PUBLISH
BEGIN:VTIMEZONE
TZID:Europe/Paris
X-LIC-LOCATION:Europe/Paris
BEGIN:DAYLIGHT
TZOFFSETFROM:+0100
TZOFFSETTO:+0200
TZNAME:CEST
DTSTART:19700329T020000
RRULE:FREQ=YEARLY;BYMONTH=3;BYDAY=-1SU
END:DAYLIGHT
BEGIN:STANDARD
TZOFFSETFROM:+0200
TZOFFSETTO:+0100
TZNAME:CET
DTSTART:19701025T030000
RRULE:FREQ=YEARLY;BYMONTH=10;BYDAY=-1SU
END:STANDARD
END:VTIMEZONE
BEGIN:VEVENT
UID:2485226:Event:2936698
DTSTAMP:20260421T155311Z
SUMMARY:Salon du bien-être Lamagys
DESCRIPTION:\n\nPour plus d'information, aller sur https://epanews.fr/
 events/salon-du-bien-tre-lamagys
DTSTART;TZID=Europe/Paris:20180317T100000
DTEND;TZID=Europe/Paris:20180318T190000
CATEGORIES:66
LOCATION:Parc des exposition de Perpignan
WEBSITE:http://www.lamagys.com
URL:http://www.lamagys.com
CONTACT:0787612292
ORGANIZER;CN=lamagys:https://epanews.fr/profile/lamagys
ATTACH;FMTTYPE="image/jpeg":
ATTENDEE;ROLE=REQ-PARTICIPANT;PARTSTAT=ACCEPTED;RSVP=TRUE;CN=lamagys:h
 ttps://epanews.fr/profile/lamagys
END:VEVENT
END:VCALENDAR
