BEGIN:VCALENDAR
PRODID:NingEventWidget-v1
VERSION:2.0
METHOD:PUBLISH
BEGIN:VTIMEZONE
TZID:Europe/Paris
X-LIC-LOCATION:Europe/Paris
BEGIN:DAYLIGHT
TZOFFSETFROM:+0100
TZOFFSETTO:+0200
TZNAME:CEST
DTSTART:19700329T020000
RRULE:FREQ=YEARLY;BYMONTH=3;BYDAY=-1SU
END:DAYLIGHT
BEGIN:STANDARD
TZOFFSETFROM:+0200
TZOFFSETTO:+0100
TZNAME:CET
DTSTART:19701025T030000
RRULE:FREQ=YEARLY;BYMONTH=10;BYDAY=-1SU
END:STANDARD
END:VTIMEZONE
BEGIN:VEVENT
UID:2485226:Event:2919692
DTSTAMP:20260420T161431Z
SUMMARY:Salon du bien être et de la voyance
DESCRIPTION:Conférence et dédicaces. \"Ils ont tant de belles choses
  à nous dire\" Expériences spirites vécues\n Je serai ravi d'aborde
 r avec vous, un sujet encore tabou et qui pourtant était largement pr
 atiqué au 19ème siècle : \"Le spiritisme\" (guéridon, le ouija, l'
 écriture automatique et inspirée). C'est une façon d'aborder la spi
 ritualité sous l'angle de la liberté, loin des clichés, des croyanc
 es, des légendes et des superstitions qui n'ont fait qu'éloigner les
  hommes de la vérité sur l'au-delà. Cela demande, bien sur, une cer
 taine ouverture d'esprit, et si on accepte l'idée que nos certitudes 
 sont éphémères pour redevenir des écoliers attentifs, alors arrive
 nt l'inattendu et l'imprévisible.\nwww.guyfaverdin.fr\n\n\nPour plus 
 d'information, aller sur https://epanews.fr/events/salon-du-bien-tre-e
 t-de-la-voyance
DTSTART;TZID=Europe/Paris:20180119T093000
DTEND;TZID=Europe/Paris:20180120T190000
CATEGORIES:27
LOCATION:Salle des fêtes de Bernay
WEBSITE:https://goo.gl/maps/FeYtNNnm7ot
URL:https://goo.gl/maps/FeYtNNnm7ot
CONTACT:
ORGANIZER:Ô Luminessence, librairie ésotérique.
ATTACH;FMTTYPE="image/jpeg":http://storage.ning.com/topology/rest/1.0/
 file/get/1663711292?profile=original
ATTENDEE;ROLE=REQ-PARTICIPANT;PARTSTAT=ACCEPTED;RSVP=TRUE;CN="Guy Fave
 rdin":https://epanews.fr/profile/GuyFaverdin
END:VEVENT
END:VCALENDAR
