BEGIN:VCALENDAR
PRODID:NingEventWidget-v1
VERSION:2.0
METHOD:PUBLISH
BEGIN:VTIMEZONE
TZID:Europe/Paris
X-LIC-LOCATION:Europe/Paris
BEGIN:DAYLIGHT
TZOFFSETFROM:+0100
TZOFFSETTO:+0200
TZNAME:CEST
DTSTART:19700329T020000
RRULE:FREQ=YEARLY;BYMONTH=3;BYDAY=-1SU
END:DAYLIGHT
BEGIN:STANDARD
TZOFFSETFROM:+0200
TZOFFSETTO:+0100
TZNAME:CET
DTSTART:19701025T030000
RRULE:FREQ=YEARLY;BYMONTH=10;BYDAY=-1SU
END:STANDARD
END:VTIMEZONE
BEGIN:VEVENT
UID:2485226:Event:2876014
DTSTAMP:20260420T124211Z
SUMMARY:Salon du bien-être et de la créativité
DESCRIPTION:Samedi30 septembre conférences sur réservation : la péd
 agogie - L'astrologie - Si on parlait d'intuition -La magie des pierre
 s -Dimanche 01 octobre : conférences gratuites : gérer le stress -La
  magie des pierres - L'astrologie - L'intuition\nOuvrages de développ
 ement spirituel (Message du Graal publication) - Potier-céramiste -Pi
 erres - Elphigraphie - Magnétiseur - Psycho-astrologie -Peintres - Ac
 cessoires de méditation - Consultante en démarche participative - Cr
 éatrice de petites sorcières\n\nPour plus d'information, aller sur h
 ttps://epanews.fr/events/salon-du-bien-tre-et-de-la-cr-ativit-1
DTSTART;TZID=Europe/Paris:20171001T100000
DTEND;TZID=Europe/Paris:20171001T190000
CATEGORIES:56, 35
LOCATION:Centre culturel
WEBSITE:
URL:
CONTACT:02 97 73 80 32
ORGANIZER:Association \"A tour de rôle\"
ATTACH;FMTTYPE="image/jpeg":
ATTENDEE;ROLE=REQ-PARTICIPANT;PARTSTAT=ACCEPTED;RSVP=TRUE;CN="Bernard 
 Penverne":https://epanews.fr/profile/BernardPenverne662
END:VEVENT
END:VCALENDAR
