BEGIN:VCALENDAR
PRODID:NingEventWidget-v1
VERSION:2.0
METHOD:PUBLISH
BEGIN:VTIMEZONE
TZID:Europe/Paris
X-LIC-LOCATION:Europe/Paris
BEGIN:DAYLIGHT
TZOFFSETFROM:+0100
TZOFFSETTO:+0200
TZNAME:CEST
DTSTART:19700329T020000
RRULE:FREQ=YEARLY;BYMONTH=3;BYDAY=-1SU
END:DAYLIGHT
BEGIN:STANDARD
TZOFFSETFROM:+0200
TZOFFSETTO:+0100
TZNAME:CET
DTSTART:19701025T030000
RRULE:FREQ=YEARLY;BYMONTH=10;BYDAY=-1SU
END:STANDARD
END:VTIMEZONE
BEGIN:VEVENT
UID:2485226:Event:419762
DTSTAMP:20260426T004350Z
SUMMARY:Salon du Bien-Être &  des Arts Divinatoires 1ère Edition
DESCRIPTION:\n\n\n\n\nBilletterie :\nhttp://www.onvaou.com/\nSalon du 
 Bien-Être & des Arts Divinatoires\nNous avons le plaisir de vous invi
 ter à la 1ère édition du Salon du Bien-Être et des Arts Divinatoi
 res les 22, 23 et 24 Juillet 2011.\nHoraire : De 10h à 20h\nAu progr
 amme du Bien-Être : Avec des intervenants de Reiki, des soins aux hu
 iles essentielles, des massages californiens, énergétique, digitopun
 cture et du coaching personnel, amoureux, professionnel, financier…\
 nAu programme des arts divinatoires : Des médiums purs, des tarologu
 es, astrologues, numérologues, numérologie animalière et enfin des 
 stands de découvertes qui vous permettront de vivre un moment excepti
 onnel.\nChaque jour les intervenants animeront des ateliers et des con
 férences pour vous faire découvrir leurs secrets et pendant les atel
 iers vous apprendrez des exercices pratiques pour appliquer chez vous 
 tous leurs conseils et méthodes dans la convivialité et la bonne hum
 eur.\nLe samedi soir une soirée VIP à partir de 21h : Buffet dinato
 ire pour le lancement de la radio 6ème sens suivi du Esther Fairy Sho
 w, où mentalisme et numérologie rendront magique cet évènement.\nV
 enez vivre une expérience hors du commun…\nUne navette vous attendr
 a à la gare de Villeneuve Loubet pour vous conduire au salon (Servic
 e gratuit)\nPratique et sympathique en cette période estivale.\nPour 
 tous renseignements complémentaires :\n  04.93.29.71.22      
  ou             01.75.43.05.20     \n \nA voir : 
 www.EstherCoach.fr   www.VotreVoyance.fr\n\nPour plus d'information,
  aller sur https://epanews.fr/events/salon-du-bien-tre-des-arts
DTSTART;TZID=Europe/Paris:20110722T000000
DTEND;TZID=Europe/Paris:20110724T235900
CATEGORIES:06
LOCATION:Villeneuve-Loubet
WEBSITE:http://maps.google.com/?q=331%2C+avenue+du+docteur+Julien+Lefe
 bvre+-+Lot+34+Villeneuve-Loubet%2C+06270
URL:http://maps.google.com/?q=331%2C+avenue+du+docteur+Julien+Lefebvre
 +-+Lot+34+Villeneuve-Loubet%2C+06270
CONTACT:04 93 29 71 22
ORGANIZER;CN=VotreVoyance:https://epanews.fr/profile/VotreVoyance
ATTACH;FMTTYPE="image/jpeg":
ATTENDEE;ROLE=REQ-PARTICIPANT;PARTSTAT=ACCEPTED;RSVP=TRUE;CN="evelyne 
 desplantes":https://epanews.fr/profile/lecoeurdelame
ATTENDEE;ROLE=REQ-PARTICIPANT;PARTSTAT=ACCEPTED;RSVP=TRUE;CN=VotreVoya
 nce:https://epanews.fr/profile/VotreVoyance
END:VEVENT
END:VCALENDAR
