BEGIN:VCALENDAR
PRODID:NingEventWidget-v1
VERSION:2.0
METHOD:PUBLISH
BEGIN:VTIMEZONE
TZID:Europe/Paris
X-LIC-LOCATION:Europe/Paris
BEGIN:DAYLIGHT
TZOFFSETFROM:+0100
TZOFFSETTO:+0200
TZNAME:CEST
DTSTART:19700329T020000
RRULE:FREQ=YEARLY;BYMONTH=3;BYDAY=-1SU
END:DAYLIGHT
BEGIN:STANDARD
TZOFFSETFROM:+0200
TZOFFSETTO:+0100
TZNAME:CET
DTSTART:19701025T030000
RRULE:FREQ=YEARLY;BYMONTH=10;BYDAY=-1SU
END:STANDARD
END:VTIMEZONE
BEGIN:VEVENT
UID:2485226:Event:1816976
DTSTAMP:20260425T154134Z
SUMMARY:salon du bien être à Antony
DESCRIPTION:de 10h à 18h30 dimanche 23 mars à la maison de l'Abbaye 
 à Antony, venez rencontrer une trentaine de praticiens, assister à d
 es conférences et à des ateliers pratiques\nGRATUIT\n\nPour plus d'i
 nformation, aller sur https://epanews.fr/events/salon-du-bien-tre-anto
 ny
DTSTART;TZID=Europe/Paris:20140323T100000
DTEND;TZID=Europe/Paris:20140323T183000
CATEGORIES:92, 91
LOCATION:maison de l'Abbaye
WEBSITE:
URL:
CONTACT:
ORGANIZER;CN="Stéphanie Bertot-Molion":https://epanews.fr/profile/Ste
 phanieBertotMolion
ATTACH;FMTTYPE="image/jpeg":http://storage.ning.com/topology/rest/1.0/
 file/get/1663080743?profile=original
ATTENDEE;ROLE=REQ-PARTICIPANT;PARTSTAT=ACCEPTED;RSVP=TRUE;CN="Amis de 
 Partage International":https://epanews.fr/profile/AmisdePartageInterna
 tional
ATTENDEE;ROLE=REQ-PARTICIPANT;PARTSTAT=ACCEPTED;RSVP=TRUE;CN="Stéphan
 ie Bertot-Molion":https://epanews.fr/profile/StephanieBertotMolion
END:VEVENT
END:VCALENDAR
