BEGIN:VCALENDAR
PRODID:NingEventWidget-v1
VERSION:2.0
METHOD:PUBLISH
BEGIN:VTIMEZONE
TZID:Europe/Paris
X-LIC-LOCATION:Europe/Paris
BEGIN:DAYLIGHT
TZOFFSETFROM:+0100
TZOFFSETTO:+0200
TZNAME:CEST
DTSTART:19700329T020000
RRULE:FREQ=YEARLY;BYMONTH=3;BYDAY=-1SU
END:DAYLIGHT
BEGIN:STANDARD
TZOFFSETFROM:+0200
TZOFFSETTO:+0100
TZNAME:CET
DTSTART:19701025T030000
RRULE:FREQ=YEARLY;BYMONTH=10;BYDAY=-1SU
END:STANDARD
END:VTIMEZONE
BEGIN:VEVENT
UID:2485226:Event:2566437
DTSTAMP:20260422T040610Z
SUMMARY:Salon du Bien Etre, Bio & Thérapies Toulouse
DESCRIPTION:Salon du Bien Etre, Bio & Thérapies Toulouse\n16, 17 & 18
  Septembre 2016\nToulouse Labège\n \nUn week-end à ne pas manquer !
 \nUn week-end pour se faire du Bien !\nCe propose aux visiteurs de ren
 contrer plus de 150 exposants répartis sur 3000 m², assister à l'un
 e des 90 conférences, séances d'initiations, essayer certaines techn
 iques de relaxation, assister à des démonstrations gratuites, prendr
 e une pause pour dorloter son corps et se faire du bien... Voilà le p
 rogramme de ces 3 jours !\nLe bien-être, le développement personnel
 , le développement durable, faisant partie intégrante de nos vies, n
 ous souhaitons présenter en toute simplicité à nos visiteurs ces ap
 proches et proposer pendant 2 jours et demi la découverte de ces thé
 rapies du corps et de l’esprit, des produits bio, des produit sains 
 et des solutions pour notre environnement afin de cultiver notre Bien-
 être !\nCe salon est à la fois un grand marché où les visiteurs so
 nt invités à découvrir de nouvelles possibilités et idées de bien
 -être, à faire le plein d'énergie et de tonus mais aussi un vérita
 ble espace de conseils personnalisés prodigués par les exposants et 
 conférenciers.\nAfin de mieux recevoir et accueillir le plus de visit
 eurs, nous avons installé le Salon aux Centre de Congrès & d'exposit
 ion Diagora à Toulouse Labège : accès direct par l’autoroute (sor
 tie 19 ou 19a Labège), Métro ligne B, arrêt de Bus ligne 79 (arrêt
  De Gennes devant Diagora) et + de 1000 places de parking gratuites !\
 nDiagora, Centre de Congrès et d’Exposition 150, rue Pierre Gilles 
 de Gennes 31670 TOULOUSE - LABEGE\n\nVendredi 16 Septembre 2016 : 14h 
 à 19h\nSamedi 17 2016 : 10h à 21h\nDimanche 18 Septembre 2016 : 10h 
 à 19h\n\n\n 2 € par Jour\nPass 3 jours : 5€ (vendu uniquement le
  vendredi)\nGratuit jusqu'à 16 ans\n\nwww.salonbienetretoulouse.com\n
 \nPour plus d'information, aller sur https://epanews.fr/events/salon-d
 u-bien-etre-bio-th-rapies-toulouse
DTSTART;TZID=Europe/Paris:20160916T140000
DTEND;TZID=Europe/Paris:20160918T190000
CATEGORIES:31
LOCATION:31670 LABEGE
WEBSITE:http://www.salonbienetretoulouse.com
URL:http://www.salonbienetretoulouse.com
CONTACT:0686539760
ORGANIZER;CN="Patrice Marty":https://epanews.fr/profile/PatriceMarty
ATTACH;FMTTYPE="image/jpeg":http://storage.ning.com/topology/rest/1.0/
 file/get/1663522743?profile=original
ATTENDEE;ROLE=REQ-PARTICIPANT;PARTSTAT=ACCEPTED;RSVP=TRUE;CN="Patrice 
 Marty":https://epanews.fr/profile/PatriceMarty
END:VEVENT
END:VCALENDAR
