BEGIN:VCALENDAR
PRODID:NingEventWidget-v1
VERSION:2.0
METHOD:PUBLISH
BEGIN:VTIMEZONE
TZID:Europe/Paris
X-LIC-LOCATION:Europe/Paris
BEGIN:DAYLIGHT
TZOFFSETFROM:+0100
TZOFFSETTO:+0200
TZNAME:CEST
DTSTART:19700329T020000
RRULE:FREQ=YEARLY;BYMONTH=3;BYDAY=-1SU
END:DAYLIGHT
BEGIN:STANDARD
TZOFFSETFROM:+0200
TZOFFSETTO:+0100
TZNAME:CET
DTSTART:19701025T030000
RRULE:FREQ=YEARLY;BYMONTH=10;BYDAY=-1SU
END:STANDARD
END:VTIMEZONE
BEGIN:VEVENT
UID:2485226:Event:2111363
DTSTAMP:20260423T160509Z
SUMMARY:salon du bien être
DESCRIPTION:désolée pour ce retard de communication!  je serai donc
  présente sur ce salon stand N° 64 je vous convie à une conférenc
 e sur la bioenergie & sur la biosanté des 5 saisons dimanche 23 sa
 lle terra à 15H dans ce même salon\nMERCI de faire partager cette i
 nformation au plaisir de vous revoir\n \n        \n\n\n\nPou
 r plus d'information, aller sur https://epanews.fr/events/salon-du-bie
 n-etre-5
DTSTART;TZID=Europe/Paris:20141121T160000
DTEND;TZID=Europe/Paris:20141123T190000
CATEGORIES:06
LOCATION:mandelieu
WEBSITE:
URL:
CONTACT:
ORGANIZER:Star com
ATTACH;FMTTYPE="image/jpeg":http://storage.ning.com/topology/rest/1.0/
 file/get/1663250976?profile=original
ATTENDEE;ROLE=REQ-PARTICIPANT;PARTSTAT=ACCEPTED;RSVP=TRUE;CN=chinello:
 https://epanews.fr/profile/chinello
END:VEVENT
END:VCALENDAR
