BEGIN:VCALENDAR
PRODID:NingEventWidget-v1
VERSION:2.0
METHOD:PUBLISH
BEGIN:VTIMEZONE
TZID:Europe/Paris
X-LIC-LOCATION:Europe/Paris
BEGIN:DAYLIGHT
TZOFFSETFROM:+0100
TZOFFSETTO:+0200
TZNAME:CEST
DTSTART:19700329T020000
RRULE:FREQ=YEARLY;BYMONTH=3;BYDAY=-1SU
END:DAYLIGHT
BEGIN:STANDARD
TZOFFSETFROM:+0200
TZOFFSETTO:+0100
TZNAME:CET
DTSTART:19701025T030000
RRULE:FREQ=YEARLY;BYMONTH=10;BYDAY=-1SU
END:STANDARD
END:VTIMEZONE
BEGIN:VEVENT
UID:2485226:Event:2766694
DTSTAMP:20260420T155417Z
SUMMARY:Salon Divinisens
DESCRIPTION:Salon Bien-Être\nau Centre de Congrès AGORA d'Aubagne (Z
 one des Paluds - Avenue des Paluds)\navec la présence de Nataly Devis
 conti, Sylvie Cariou, Françoise des Anges, Odile Omkara, Evelyne Lehn
 off, et bien d'autres...\nproduits bio, druidisme, chamanisme, arts du
  monde, nombreuses conférences...\nAlban Bourdy présentera ses roma
 ns initiatiques et fera une conférence le vendredi 13 à 17h\nMichel 
 Goldstein (journaliste de France Télévision) animera un débat le ve
 ndredi 13 à partir de 18h\nVous pouvez télécharger votre invitation
  à ce lien :\nhttp://salons-divinisens.com/inscription.php\n(sans cet
 te invitation, l'entrée est à 4 euros)\n\nPour plus d'information, a
 ller sur https://epanews.fr/events/salon-divinisens
DTSTART;TZID=Europe/Paris:20170113T113000
DTEND;TZID=Europe/Paris:20170115T190000
CATEGORIES:13
LOCATION:Aubagne
WEBSITE:
URL:
CONTACT:
ORGANIZER;CN="Alban Bourdy":https://epanews.fr/profile/AlbanBourdy
ATTACH;FMTTYPE="image/jpeg":http://storage.ning.com/topology/rest/1.0/
 file/get/1663633430?profile=original
ATTENDEE;ROLE=REQ-PARTICIPANT;PARTSTAT=ACCEPTED;RSVP=TRUE;CN=amaryllis
 :https://epanews.fr/profile/amaryllis37
ATTENDEE;ROLE=REQ-PARTICIPANT;PARTSTAT=ACCEPTED;RSVP=TRUE;CN="Alban Bo
 urdy":https://epanews.fr/profile/AlbanBourdy
END:VEVENT
END:VCALENDAR
