BEGIN:VCALENDAR
PRODID:NingEventWidget-v1
VERSION:2.0
METHOD:PUBLISH
BEGIN:VTIMEZONE
TZID:Europe/Paris
X-LIC-LOCATION:Europe/Paris
BEGIN:DAYLIGHT
TZOFFSETFROM:+0100
TZOFFSETTO:+0200
TZNAME:CEST
DTSTART:19700329T020000
RRULE:FREQ=YEARLY;BYMONTH=3;BYDAY=-1SU
END:DAYLIGHT
BEGIN:STANDARD
TZOFFSETFROM:+0200
TZOFFSETTO:+0100
TZNAME:CET
DTSTART:19701025T030000
RRULE:FREQ=YEARLY;BYMONTH=10;BYDAY=-1SU
END:STANDARD
END:VTIMEZONE
BEGIN:VEVENT
UID:2485226:Event:2610070
DTSTAMP:20260424T213013Z
SUMMARY:Salon des Z'Arts Zen
DESCRIPTION:Cette 1Ã¨re Ã©dition recevra plus d'uneÂ 100aine d'exposan
 tsÂ qui animerontÂ plus deÂ 40 confÃ©rences.\nPrÃ©sence exceptionnelle
  le dimanche Ã  15h de RÃ©mi Portrait qui prÃ©sentera sa confÃ©rence s
 ur \"Les cheveux disent tout de vous\".\nRÃ©mi Portrait exposera ses d
 erniÃ¨res recherches, les plus avancÃ©es, sur le cheveu. Comment il rÃ
 ©agit Ã  tout ce qui nous touche profondÃ©ment, nos peurs, nos angoiss
 es, notre stress, et Ã©galement avec le logiciel Korodkov , oÃ¹ lâ€™on
  dÃ©couvre lâ€™action de la coupe vibratoire sur les organes, les visc
 Ã¨res, les chakras et le dÃ©cryptage avec la mÃ©decine chinoise, et to
 ut simplement sur la qualitÃ© de nos cheveux, lâ€™action sur la chute 
 de cheveux (naturelle, gÃ©nÃ©tique ou suite Ã  un traitement), les che
 veux fins, ....Â \nCe salon de 2 jours a pour objectif de permettre au
 x ThÃ©rapeutes/Praticiens, aux Professionnels du BienÂ ÃŠtre, aux Arti
 stesÂ de faire dÃ©couvrir leurs techniques via un stand, mais Ã©galeme
 nt une confÃ©rence, un atelier qu'ils peuvent donner durant le week-en
 d.Â \nCorrÃ©lativement, nos salons permettent aux visiteurs de dÃ©couv
 rir de nouvelles pratiques, de nouveaux praticiens/thÃ©rapeutes, artis
 tes, ..., et ainsi leur permettre de trouver une voie sur le chemin d'
 Ã©volution.\nDes ConfÃ©rences et des Ateliers seront donnÃ©s sur diffÃ
 ©rents thÃ¨mes touchant les thÃ©rapies douces, alternatives, quantique
 s, les plantes, les Ã©pices, les complÃ©ments alimentaires, la gÃ©obio
 logie, l'eau, ... Programme dÃ©taillÃ© sur le site : www.lezarts-zen.c
 om\nLe samedi Ã  20h, venez vibrer lors du voyage sonore avec Sophie B
 alestro et Sylvain Lacroix.\nSophie Balestro et Sylvain Lacroix, sonot
 hÃ©rapeutes vous invitent Ã  leurÂ voyage sonore,Â une relaxation allo
 ngÃ©e, guidÃ©e par les sons de leurs instruments zen. Au fil de la sÃ©
 ance, les vibrations pÃ©nÃ¨trent et circulent dans votre corps, vous a
 ccompagnant dans votre bien-Ãªtre. Bols tibÃ©tains et de cristal, tamb
 ours, gongs, didgeridoo... sont les acteurs de votre voyage.\n\n\n\nPo
 ur plus d'information, aller sur https://epanews.fr/events/salon-des-z
 -arts-zen
DTSTART;TZID=Europe/Paris:20160528T000000
DTEND;TZID=Europe/Paris:20160529T235900
CATEGORIES:69
LOCATION:Parc des Expositions
WEBSITE:http://www.lezarts-zen.com/evenements-bien-etre/salons-bien-et
 re/evenements-bien-etre/lezarts-zen/salons-zen-art/salon-des-z-arts-ze
 n-villefranche-sur-saone
URL:http://www.lezarts-zen.com/evenements-bien-etre/salons-bien-etre/e
 venements-bien-etre/lezarts-zen/salons-zen-art/salon-des-z-arts-zen-vi
 llefranche-sur-saone
CONTACT:0781731896
ORGANIZER;CN="LeZarts Zen":https://epanews.fr/profile/LeZartsZen
ATTACH;FMTTYPE="image/jpeg":http://storage.ning.com/topology/rest/1.0/
 file/get/1663546659?profile=original
ATTENDEE;ROLE=REQ-PARTICIPANT;PARTSTAT=ACCEPTED;RSVP=TRUE;CN="LeZarts 
 Zen":https://epanews.fr/profile/LeZartsZen
END:VEVENT
END:VCALENDAR
