BEGIN:VCALENDAR
PRODID:NingEventWidget-v1
VERSION:2.0
METHOD:PUBLISH
BEGIN:VTIMEZONE
TZID:Europe/Paris
X-LIC-LOCATION:Europe/Paris
BEGIN:DAYLIGHT
TZOFFSETFROM:+0100
TZOFFSETTO:+0200
TZNAME:CEST
DTSTART:19700329T020000
RRULE:FREQ=YEARLY;BYMONTH=3;BYDAY=-1SU
END:DAYLIGHT
BEGIN:STANDARD
TZOFFSETFROM:+0200
TZOFFSETTO:+0100
TZNAME:CET
DTSTART:19701025T030000
RRULE:FREQ=YEARLY;BYMONTH=10;BYDAY=-1SU
END:STANDARD
END:VTIMEZONE
BEGIN:VEVENT
UID:2485226:Event:2936977
DTSTAMP:20260420T223918Z
SUMMARY:Salon des Z'Arts Zen Ecully (69)
DESCRIPTION:Cette 1ère édition du salon du bien être et des arts de
  2 jours vous permettra de découvrir 65 exposants (thérapeutes/prati
 ciens, prof du bien être et artistes) qui animeront plus de 40 confé
 rences sur différents thèmes touchant les thérapies douces : les é
 pices, les compléments alimentaires, la géobiologie, l’eau, …\nU
 n concert vous est proposé le samedi à 19H.\nRestauration sans glute
 n, végétarienne et traditionnelle avec Ma Cantine Gourmande.\nAnimat
 ion pour les enfants : jeu du prénom avec sculptures sur bois, …\n\
 nPour plus d'information, aller sur https://epanews.fr/events/salon-de
 s-z-arts-zen-ecully-69
DTSTART;TZID=Europe/Paris:20180402T100000
DTEND;TZID=Europe/Paris:20180403T180000
CATEGORIES:69
LOCATION:Espace Ecully
WEBSITE:https://www.lezarts-zen.com/evenements-bien-etre/salon-des-z-a
 rts-zen-ecully/
URL:https://www.lezarts-zen.com/evenements-bien-etre/salon-des-z-arts-
 zen-ecully/
CONTACT:0781731896
ORGANIZER;CN="LeZarts Zen":https://epanews.fr/profile/LeZartsZen
ATTACH;FMTTYPE="image/jpeg":http://storage.ning.com/topology/rest/1.0/
 file/get/1663723730?profile=original
ATTENDEE;ROLE=REQ-PARTICIPANT;PARTSTAT=ACCEPTED;RSVP=TRUE;CN="LeZarts 
 Zen":https://epanews.fr/profile/LeZartsZen
END:VEVENT
END:VCALENDAR
