BEGIN:VCALENDAR
PRODID:NingEventWidget-v1
VERSION:2.0
METHOD:PUBLISH
BEGIN:VTIMEZONE
TZID:Europe/Paris
X-LIC-LOCATION:Europe/Paris
BEGIN:DAYLIGHT
TZOFFSETFROM:+0100
TZOFFSETTO:+0200
TZNAME:CEST
DTSTART:19700329T020000
RRULE:FREQ=YEARLY;BYMONTH=3;BYDAY=-1SU
END:DAYLIGHT
BEGIN:STANDARD
TZOFFSETFROM:+0200
TZOFFSETTO:+0100
TZNAME:CET
DTSTART:19701025T030000
RRULE:FREQ=YEARLY;BYMONTH=10;BYDAY=-1SU
END:STANDARD
END:VTIMEZONE
BEGIN:VEVENT
UID:2485226:Event:1685566
DTSTAMP:20260422T171624Z
SUMMARY:Salon des Eveilleurs Bressuire
DESCRIPTION:le Salon des Eveilleurs est destiné à mettre en relation
  des thérapeutes et des personnes en quête de réponses dans leur ch
 eminement . Il peut aussi juste servir à susciter un questionnement a
 uprès d'un public qui se déplacerait par curiosité. Dans tous les c
 as, l'objectif de l'association organisatrice  est de semer des grain
 es d'amour de soi pour plus d'amour de l'autre. les renseignements sur
  lespetitesmainsdelalumiere.org\n\nPour plus d'information, aller sur 
 https://epanews.fr/events/salon-des-eveilleurs-bressuire
DTSTART;TZID=Europe/Paris:20140301T113000
DTEND;TZID=Europe/Paris:20140302T183000
CATEGORIES:79, 85, 49, 72, 17, 44
LOCATION:Hall Bocage espace Bocapole
WEBSITE:
URL:
CONTACT:02 28 01 88 05 /06 07 41 81 49
ORGANIZER;CN="MARIA LOIRE":https://epanews.fr/profile/MARIALOIRE
ATTACH;FMTTYPE="image/jpeg":http://storage.ning.com/topology/rest/1.0/
 file/get/1662996479?profile=original
ATTENDEE;ROLE=REQ-PARTICIPANT;PARTSTAT=ACCEPTED;RSVP=TRUE;CN="MARIA LO
 IRE":https://epanews.fr/profile/MARIALOIRE
END:VEVENT
END:VCALENDAR
