BEGIN:VCALENDAR
PRODID:NingEventWidget-v1
VERSION:2.0
METHOD:PUBLISH
BEGIN:VTIMEZONE
TZID:Europe/Paris
X-LIC-LOCATION:Europe/Paris
BEGIN:DAYLIGHT
TZOFFSETFROM:+0100
TZOFFSETTO:+0200
TZNAME:CEST
DTSTART:19700329T020000
RRULE:FREQ=YEARLY;BYMONTH=3;BYDAY=-1SU
END:DAYLIGHT
BEGIN:STANDARD
TZOFFSETFROM:+0200
TZOFFSETTO:+0100
TZNAME:CET
DTSTART:19701025T030000
RRULE:FREQ=YEARLY;BYMONTH=10;BYDAY=-1SU
END:STANDARD
END:VTIMEZONE
BEGIN:VEVENT
UID:2485226:Event:394211
DTSTAMP:20260423T051647Z
SUMMARY:salon des arts divinatoires et du bien être du 6 au 8 juillet
DESCRIPTION:vous aurez le choix , nous avons tous notre spécialité 
 , la sélection a été de rigueur pour réaliser ce salon, que cela 
 soit des arts divinatoires, bien-être , exposants , conférenciers, d
 e vrais professionnels qui pratiquent leurs métiers avec amour et dro
 iture, pour répondre à vos attentes. Nous défendons tous notre prof
 ession bien haut, suffit de croire qu'il n'y a que de rigolos dans not
 re monde, venez vous en aurez la preuve.\n\nPour plus d'information, a
 ller sur https://epanews.fr/events/salon-des-arts-divinatoires-et
DTSTART;TZID=Europe/Paris:20110706T000000
DTEND;TZID=Europe/Paris:20110708T235900
CATEGORIES:34
LOCATION:CAP D AGDE
WEBSITE:
URL:
CONTACT:
ORGANIZER;CN="FORRESTIER isabelle":https://epanews.fr/profile/FORRESTI
 ERisabelle
ATTACH;FMTTYPE="image/jpeg":http://storage.ning.com/topology/rest/1.0/
 file/get/1662434468?profile=original
ATTENDEE;ROLE=REQ-PARTICIPANT;PARTSTAT=ACCEPTED;RSVP=TRUE;CN=tomas:htt
 ps://epanews.fr/profile/tomas
ATTENDEE;ROLE=REQ-PARTICIPANT;PARTSTAT=ACCEPTED;RSVP=TRUE;CN="FORRESTI
 ER isabelle":https://epanews.fr/profile/FORRESTIERisabelle
END:VEVENT
END:VCALENDAR
