BEGIN:VCALENDAR
PRODID:NingEventWidget-v1
VERSION:2.0
METHOD:PUBLISH
BEGIN:VTIMEZONE
TZID:Europe/Paris
X-LIC-LOCATION:Europe/Paris
BEGIN:DAYLIGHT
TZOFFSETFROM:+0100
TZOFFSETTO:+0200
TZNAME:CEST
DTSTART:19700329T020000
RRULE:FREQ=YEARLY;BYMONTH=3;BYDAY=-1SU
END:DAYLIGHT
BEGIN:STANDARD
TZOFFSETFROM:+0200
TZOFFSETTO:+0100
TZNAME:CET
DTSTART:19701025T030000
RRULE:FREQ=YEARLY;BYMONTH=10;BYDAY=-1SU
END:STANDARD
END:VTIMEZONE
BEGIN:VEVENT
UID:2485226:Event:689307
DTSTAMP:20260423T124140Z
SUMMARY:Salon des arts divinatoires, bien être du corps et de l'espri
 t
DESCRIPTION:salon de voyance et de mieux être le vendredi 24,samedi 2
 5, dimanche 26,et lundi 27 Février de 10 h à 20 h dans le hall princ
 ipale du Palais des Congrès de La Grande Motte (34), vente de produit
 s ésotérique, encens, bougies, bijoux fantaisie avec Patrick de la b
 outique CHIC A, Que cuchi créatrice..\nLYLIANE DUVAL Numerologue, ALD
 EBERT SEBASTIEN Magnétiseur- Equilibre des corps énergétiques, MAIT
 HE MORILLON MASSIF Consultante et  Organisatrice de l'ecole Ecoute to
 n corps, Corine Cortes Torres Sophrologue Coach Créatrice de l’Orac
 le de Krystal.  Marie Raphaële Vanuxem Accompagnante au Mieux-Etre, 
 Photo d'Aura... Conférences avec BERNARD MIRANDE le thème \"Clairvoy
 ance et spiritualité\" \nDe nouvelles médiums comme Marie Daudet, Ro
 xane Dharma ylang , et toujours présentent Heloise Médium, Michéle 
 Médium, Anna Bocca et Eva Voyante.\nEntré gratuite.\nTOMBOLA GRATUIT
 E : UN BILLET A CHAQUE VISITEUR MAJEUR\n\nPour plus d'information, all
 er sur https://epanews.fr/events/salon-des-arts-divinatoires-bien-tre-
 du-corps-et-de-l-esprit
DTSTART;TZID=Europe/Paris:20120224T000000
DTEND;TZID=Europe/Paris:20120227T235900
CATEGORIES:34
LOCATION:LA GRANDE MOTTE
WEBSITE:http://www.lagrandemotte-congres.com
URL:http://www.lagrandemotte-congres.com
CONTACT:06.09.97.52.98 ou 06.21.47.69.23
ORGANIZER:association \"les amis de la licorne d'or\"
ATTACH;FMTTYPE="image/jpeg":
ATTENDEE;ROLE=REQ-PARTICIPANT;PARTSTAT=ACCEPTED;RSVP=TRUE;CN="la licor
 ne d'or":https://epanews.fr/profile/lalicornedor
ATTENDEE;ROLE=REQ-PARTICIPANT;PARTSTAT=TENTATIVE;RSVP=TRUE;CN=NADIA:ht
 tps://epanews.fr/profile/milord
END:VEVENT
END:VCALENDAR
