BEGIN:VCALENDAR
PRODID:NingEventWidget-v1
VERSION:2.0
METHOD:PUBLISH
BEGIN:VTIMEZONE
TZID:Europe/Paris
X-LIC-LOCATION:Europe/Paris
BEGIN:DAYLIGHT
TZOFFSETFROM:+0100
TZOFFSETTO:+0200
TZNAME:CEST
DTSTART:19700329T020000
RRULE:FREQ=YEARLY;BYMONTH=3;BYDAY=-1SU
END:DAYLIGHT
BEGIN:STANDARD
TZOFFSETFROM:+0200
TZOFFSETTO:+0100
TZNAME:CET
DTSTART:19701025T030000
RRULE:FREQ=YEARLY;BYMONTH=10;BYDAY=-1SU
END:STANDARD
END:VTIMEZONE
BEGIN:VEVENT
UID:2485226:Event:1986688
DTSTAMP:20260424T082244Z
SUMMARY:salon de la crÃ©ation
DESCRIPTION:Bonjour! agent commercial inscrit au TC Chalon sur SaÃ´ne,
  je vends des livres neufs (plus de 900 rÃ©fÃ©rences Ã  80% jeunesse e
 t 20% adultes) de plus de vingt Ã©diteurs indÃ©pendants, pour deux soc
 iÃ©tÃ©s d'Ã©ditions indÃ©pendantes de CÃ´te d'Or et SaÃ´ne et Loire, d
 ont certains enÂ rapport avec la spiritualitÃ©, la connaissance de soi
  et le bien-Ãªtre. Ma clientÃ¨le est composÃ©e de bibliothÃ¨ques, CCAS
 , CE, Ã©tablissements scolaires, crÃ¨ches, garderies, maisons de retra
 ite et particuliers rencontrÃ©s sur des salons, sur une douzaine de dÃ
 ©partements. Je serai prÃ©sent au grand marchÃ© couvert de Vichy, same
 di 02 et dimanche 03 aoÃ»t de 08h Ã  12h30. Venez m'y rencontrer!\nSi 
 vous avez trouvÃ© cette annonce sur Epanews, faites le moi savoir lors
  de votre passage, afin de vous en remercier.\n\nPour plus d'informati
 on, aller sur https://epanews.fr/events/salon-de-la-cr-ation
DTSTART;TZID=Europe/Paris:20140802T080000
DTEND;TZID=Europe/Paris:20140803T123000
CATEGORIES:03
LOCATION:Grand marchÃ© couvert VICHY
WEBSITE:
URL:
CONTACT:06.40.06.07.95
ORGANIZER;CN=Alain:https://epanews.fr/profile/Bouterige
ATTACH;FMTTYPE="image/jpeg":
ATTENDEE;ROLE=REQ-PARTICIPANT;PARTSTAT=ACCEPTED;RSVP=TRUE;CN=Alain:htt
 ps://epanews.fr/profile/Bouterige
END:VEVENT
END:VCALENDAR
