BEGIN:VCALENDAR
PRODID:NingEventWidget-v1
VERSION:2.0
METHOD:PUBLISH
BEGIN:VTIMEZONE
TZID:Europe/Paris
X-LIC-LOCATION:Europe/Paris
BEGIN:DAYLIGHT
TZOFFSETFROM:+0100
TZOFFSETTO:+0200
TZNAME:CEST
DTSTART:19700329T020000
RRULE:FREQ=YEARLY;BYMONTH=3;BYDAY=-1SU
END:DAYLIGHT
BEGIN:STANDARD
TZOFFSETFROM:+0200
TZOFFSETTO:+0100
TZNAME:CET
DTSTART:19701025T030000
RRULE:FREQ=YEARLY;BYMONTH=10;BYDAY=-1SU
END:STANDARD
END:VTIMEZONE
BEGIN:VEVENT
UID:2485226:Event:1331231
DTSTAMP:20260423T221330Z
SUMMARY:Salon bio Naturavignon 2015
DESCRIPTION:Venez participer à un atelier sur les mandalas et la chro
 mothérapie dans le cadre du salon bio Naturavignon  à Montfavet lie
 u dit La Souvine  ,le samedi 9 Mai et dimanche 10 mai avec Sylvaine M
 agrini coloriste art- thérapeute chromothérapeute spécialisée dans
  les Mandalas..\nVous ferez votre mandala sur un thème choisit comme 
 : comment lâcher prise ou avoir confiance en soi ou autre question.. 
 et on l'analysera ensemble selon vos couleurs\nTout le matériel est f
 ourni et gratuit..\nLe mandala est un outil très utile pour un dével
 oppement personnel et aussi pour aider les autres.\nPlus de renseignem
 ents:\ntel : 06 67 65 87 21\nhttp://www.mandalastages.com\n\n\nentrée
  du salon : 3 € par personne ,gratuit pour ceux qui arrive en vélo!
 \n\nTEL : 06 67 65 87 21\n        04 94 78 17 49\n\nPour plus d
 'information, aller sur https://epanews.fr/events/salon-bio-naturavign
 on
DTSTART;TZID=Europe/Paris:20150509T000000
DTEND;TZID=Europe/Paris:20150510T235900
CATEGORIES:84
LOCATION:Montfavet Avignon
WEBSITE:http://htp://www.naturavignon.com
URL:http://htp://www.naturavignon.com
CONTACT:
ORGANIZER:naturavignon
ATTACH;FMTTYPE="image/jpeg":http://storage.ning.com/topology/rest/1.0/
 file/get/1662821506?profile=original
ATTENDEE;ROLE=REQ-PARTICIPANT;PARTSTAT=ACCEPTED;RSVP=TRUE;CN="magrini 
 sylvaine":https://epanews.fr/profile/magrinisylvaine
END:VEVENT
END:VCALENDAR
