BEGIN:VCALENDAR
PRODID:NingEventWidget-v1
VERSION:2.0
METHOD:PUBLISH
BEGIN:VTIMEZONE
TZID:Europe/Paris
X-LIC-LOCATION:Europe/Paris
BEGIN:DAYLIGHT
TZOFFSETFROM:+0100
TZOFFSETTO:+0200
TZNAME:CEST
DTSTART:19700329T020000
RRULE:FREQ=YEARLY;BYMONTH=3;BYDAY=-1SU
END:DAYLIGHT
BEGIN:STANDARD
TZOFFSETFROM:+0200
TZOFFSETTO:+0100
TZNAME:CET
DTSTART:19701025T030000
RRULE:FREQ=YEARLY;BYMONTH=10;BYDAY=-1SU
END:STANDARD
END:VTIMEZONE
BEGIN:VEVENT
UID:2485226:Event:1394445
DTSTAMP:20260422T220725Z
SUMMARY:Modification demandÃ©e
DESCRIPTION:Lâ€™Association CENTHEA est heureuse de vous informer quâ€
 ™elle organise\nLe 5 Ã¨me SALON BIO, BIEN-ÃŠTRE, ARTISANAT et ENERGIES
  RENOUVELABLES\nÂ \n\nPour plus d'information, aller sur https://epane
 ws.fr/events/salon-bio-bien-tre-artisanat-et-energies-renouvelables
DTSTART;TZID=Europe/Paris:20130609T000000
DTEND;TZID=Europe/Paris:20130609T235900
CATEGORIES:83
LOCATION:Dans les rues du village Le Thoronet
WEBSITE:http://centhea.free.fr/salon.html
URL:http://centhea.free.fr/salon.html
CONTACT:
ORGANIZER;CN="RUBY Marie-JosÃ©":https://epanews.fr/profile/RUBYMarieJo
 se
ATTACH;FMTTYPE="image/jpeg":
ATTENDEE;ROLE=REQ-PARTICIPANT;PARTSTAT=ACCEPTED;RSVP=TRUE;CN="RUBY Mar
 ie-JosÃ©":https://epanews.fr/profile/RUBYMarieJose
END:VEVENT
END:VCALENDAR
