BEGIN:VCALENDAR
PRODID:NingEventWidget-v1
VERSION:2.0
METHOD:PUBLISH
BEGIN:VTIMEZONE
TZID:Europe/Paris
X-LIC-LOCATION:Europe/Paris
BEGIN:DAYLIGHT
TZOFFSETFROM:+0100
TZOFFSETTO:+0200
TZNAME:CEST
DTSTART:19700329T020000
RRULE:FREQ=YEARLY;BYMONTH=3;BYDAY=-1SU
END:DAYLIGHT
BEGIN:STANDARD
TZOFFSETFROM:+0200
TZOFFSETTO:+0100
TZNAME:CET
DTSTART:19701025T030000
RRULE:FREQ=YEARLY;BYMONTH=10;BYDAY=-1SU
END:STANDARD
END:VTIMEZONE
BEGIN:VEVENT
UID:2485226:Event:975468
DTSTAMP:20260419T141609Z
SUMMARY:Salon Bio, Bien-Etre & Artisanat
DESCRIPTION:\nSalon bio, bien-être et artisanat\n\n\n\n\nDu vendredi
 , 19 octobre 2012 -  10:00Au dimanche, 21 octobre 2012 - 18:00Tou
 s les jours\n\n\n\n\n\n\n\n4e salon du bio, du bien-être, de l'artis
 anat, des énergies renouvelables, de l’alternatif et de la santé.U
 ne rencontre avec le naturel, organisée par l'association CenthéA 
 (Les Camails - 83340 Le Thoronet).Nombreux produits bio, cosmétiques,
  bijoux, textiles, artisanats. Conférences, ateliers, animations, ma
 ssages. Restauration bio et buvette sur place.\nDu vendredi 19 au dim
 anche 21 octobre, à la salle polyculturelle du Camp Romain (bouleva
 rd Coua de Can).\nEntrée : 2 € / Gratuit - 12 ans.\nRenseignement
 s : 06 87 68 03 23 - http://centhea.zzl.org.\n\n\n\n\n\n\nPour plus 
 d'information, aller sur https://epanews.fr/events/salon-bio-bien-etre
 -artisanat
DTSTART;TZID=Europe/Paris:20121019T000000
DTEND;TZID=Europe/Paris:20121021T180000
CATEGORIES:83
LOCATION:Vidauban (83)
WEBSITE:http://urope - Var - France      Située au centre du départe
 ment du Var, Vidauban est desservie par la RDN7 (l'ancienne Nationale 
 7, célébrée par la fameuse chanson), l'autoroute A8, l'A57 (sortie 
 Le Luc - Le Cannet des Maures ou Le Muy), la voie ferrée et la ligne 
 TGV Méditerranée, avec la gare des Arcs à 5 Km. Les Aéroports de T
 oulon-Hyères et Nice sont distants d'une centaine de kilomètres chac
 un.
URL:http://urope - Var - France      Située au centre du département
  du Var, Vidauban est desservie par la RDN7 (l'ancienne Nationale 7, c
 élébrée par la fameuse chanson), l'autoroute A8, l'A57 (sortie Le L
 uc - Le Cannet des Maures ou Le Muy), la voie ferrée et la ligne TGV 
 Méditerranée, avec la gare des Arcs à 5 Km. Les Aéroports de Toulo
 n-Hyères et Nice sont distants d'une centaine de kilomètres chacun.
CONTACT:Renseignements : 06 87 68 03 23 - http://centhea.zzl.org.
ORGANIZER;CN="RUBY Marie-José":https://epanews.fr/profile/RUBYMarieJo
 se
ATTACH;FMTTYPE="image/jpeg":
ATTENDEE;ROLE=REQ-PARTICIPANT;PARTSTAT=ACCEPTED;RSVP=TRUE;CN="RUBY Mar
 ie-José":https://epanews.fr/profile/RUBYMarieJose
ATTENDEE;ROLE=REQ-PARTICIPANT;PARTSTAT=TENTATIVE;RSVP=TRUE;CN="Didier 
 Collin \"Ithaque\"":https://epanews.fr/profile/DidierCollin
END:VEVENT
END:VCALENDAR
