BEGIN:VCALENDAR
PRODID:NingEventWidget-v1
VERSION:2.0
METHOD:PUBLISH
BEGIN:VTIMEZONE
TZID:Europe/Paris
X-LIC-LOCATION:Europe/Paris
BEGIN:DAYLIGHT
TZOFFSETFROM:+0100
TZOFFSETTO:+0200
TZNAME:CEST
DTSTART:19700329T020000
RRULE:FREQ=YEARLY;BYMONTH=3;BYDAY=-1SU
END:DAYLIGHT
BEGIN:STANDARD
TZOFFSETFROM:+0200
TZOFFSETTO:+0100
TZNAME:CET
DTSTART:19701025T030000
RRULE:FREQ=YEARLY;BYMONTH=10;BYDAY=-1SU
END:STANDARD
END:VTIMEZONE
BEGIN:VEVENT
UID:2485226:Event:1306733
DTSTAMP:20260422T071324Z
SUMMARY:Salon bien-être et du développement Blain (44)
DESCRIPTION:A Blain (44), venez découvrir le salon bien-être et du d
 éveloppement de 10h à 18h (entrée libre): Soins énergétiques, bie
 n-être, kinésiologie, numérologie,  naturopathe, évolution person
 nelle, conseils santé, conférences santé...\nA bientôt\n\nPour plu
 s d'information, aller sur https://epanews.fr/events/salon-bien-tre-et
 -du-d-veloppement-blain-44
DTSTART;TZID=Europe/Paris:20130512T000000
DTEND;TZID=Europe/Paris:20130512T235900
CATEGORIES:44
LOCATION:Blain
WEBSITE:http://www.natureiki.fr
URL:http://www.natureiki.fr
CONTACT:0660872095
ORGANIZER:Nina Tardivel
ATTACH;FMTTYPE="image/jpeg":
ATTENDEE;ROLE=REQ-PARTICIPANT;PARTSTAT=ACCEPTED;RSVP=TRUE;CN=NatuReiki
 :https://epanews.fr/profile/NatuReiki
ATTENDEE;ROLE=REQ-PARTICIPANT;PARTSTAT=TENTATIVE;RSVP=TRUE;CN="Free Mo
 on":https://epanews.fr/profile/1ggai5tma2xpm
END:VEVENT
END:VCALENDAR
