BEGIN:VCALENDAR
PRODID:NingEventWidget-v1
VERSION:2.0
METHOD:PUBLISH
BEGIN:VTIMEZONE
TZID:Europe/Paris
X-LIC-LOCATION:Europe/Paris
BEGIN:DAYLIGHT
TZOFFSETFROM:+0100
TZOFFSETTO:+0200
TZNAME:CEST
DTSTART:19700329T020000
RRULE:FREQ=YEARLY;BYMONTH=3;BYDAY=-1SU
END:DAYLIGHT
BEGIN:STANDARD
TZOFFSETFROM:+0200
TZOFFSETTO:+0100
TZNAME:CET
DTSTART:19701025T030000
RRULE:FREQ=YEARLY;BYMONTH=10;BYDAY=-1SU
END:STANDARD
END:VTIMEZONE
BEGIN:VEVENT
UID:2485226:Event:3111630
DTSTAMP:20260424T085305Z
SUMMARY:Salon bien-être digital de l'Hérault
DESCRIPTION:Les exposants de Montpellier, Béziers, Lodève mais aussi
  de partout en France seront là pour vous accueillir !\nDu 3 au 7 Fé
 vrier 2021 retrouvez en ligne tous vos exposants comme sur un salon ph
 ysique mais depuis chez-vous. Une simple connexion internet suffit pou
 r y accéder peu import où vous êtes !\nCe salon couvrira toutes les
  grandes ville de l'Hérault, Montpellier, Béziers Lodève mais égal
 ement les départements limitrophes.\n\nPlus d'informations ici: https
 ://www.salons-bien-etre.fr/listings/salon-bien-etre-digital-herault/\n
 \nPour plus d'information, aller sur https://epanews.fr/events/salon-b
 ien-tre-digital-de-l-h-rault
DTSTART;TZID=Europe/Paris:20210203T180000
DTEND;TZID=Europe/Paris:20210207T190000
CATEGORIES:34
LOCATION:Montpellier
WEBSITE:https://www.salons-bien-etre.fr/listings/salon-bien-etre-digit
 al-herault/
URL:https://www.salons-bien-etre.fr/listings/salon-bien-etre-digital-h
 erault/
CONTACT:06 63 29 55 89
ORGANIZER:salons-bien-etre.fr
ATTACH;FMTTYPE="image/jpeg":https://storage.ning.com/topology/rest/1.0
 /file/get/8230492482?profile=original
ATTENDEE;ROLE=REQ-PARTICIPANT;PARTSTAT=ACCEPTED;RSVP=TRUE;CN="Gaiatrya
 .com":https://epanews.fr/profile/Gaiatryacom962
END:VEVENT
END:VCALENDAR
