BEGIN:VCALENDAR
PRODID:NingEventWidget-v1
VERSION:2.0
METHOD:PUBLISH
BEGIN:VTIMEZONE
TZID:Europe/Paris
X-LIC-LOCATION:Europe/Paris
BEGIN:DAYLIGHT
TZOFFSETFROM:+0100
TZOFFSETTO:+0200
TZNAME:CEST
DTSTART:19700329T020000
RRULE:FREQ=YEARLY;BYMONTH=3;BYDAY=-1SU
END:DAYLIGHT
BEGIN:STANDARD
TZOFFSETFROM:+0200
TZOFFSETTO:+0100
TZNAME:CET
DTSTART:19701025T030000
RRULE:FREQ=YEARLY;BYMONTH=10;BYDAY=-1SU
END:STANDARD
END:VTIMEZONE
BEGIN:VEVENT
UID:2485226:Event:2279497
DTSTAMP:20260423T043151Z
SUMMARY:Salon bien-être à Alès (30)
DESCRIPTION:\nPour la première fois sur Alès, le salon du bien-être
  vous ouvre ses portes les 11 et 12 Avril 2015 de 10 H à 19 H à l'es
 pace A.Cazot.  \nVenez à la rencontre des professionnels et exposant
 s au service de votre bien-être !\n\nPour plus d'information, aller s
 ur https://epanews.fr/events/salon-bien-tre-al-s-30
DTSTART;TZID=Europe/Paris:20150411T100000
DTEND;TZID=Europe/Paris:20150412T190000
CATEGORIES:30100
LOCATION:Alès
WEBSITE:
URL:
CONTACT:
ORGANIZER:Salon bien-être Alès
ATTACH;FMTTYPE="image/jpeg":http://storage.ning.com/topology/rest/1.0/
 file/get/1663364298?profile=original
ATTENDEE;ROLE=REQ-PARTICIPANT;PARTSTAT=ACCEPTED;RSVP=TRUE;CN=Gaiatrya:
 https://epanews.fr/profile/Gaiatrya
END:VEVENT
END:VCALENDAR
