BEGIN:VCALENDAR
PRODID:NingEventWidget-v1
VERSION:2.0
METHOD:PUBLISH
BEGIN:VTIMEZONE
TZID:Europe/Paris
X-LIC-LOCATION:Europe/Paris
BEGIN:DAYLIGHT
TZOFFSETFROM:+0100
TZOFFSETTO:+0200
TZNAME:CEST
DTSTART:19700329T020000
RRULE:FREQ=YEARLY;BYMONTH=3;BYDAY=-1SU
END:DAYLIGHT
BEGIN:STANDARD
TZOFFSETFROM:+0200
TZOFFSETTO:+0100
TZNAME:CET
DTSTART:19701025T030000
RRULE:FREQ=YEARLY;BYMONTH=10;BYDAY=-1SU
END:STANDARD
END:VTIMEZONE
BEGIN:VEVENT
UID:2485226:Event:1492913
DTSTAMP:20260423T141559Z
SUMMARY:salon bien -être
DESCRIPTION:salon bien -être \nateliers , animations, conférences 
 \nmassage Amma\nreflexologie plantaire \nsophrologie\nrelaxation dyna
 mique\ndietetique\nmedecine quantique\nart therapie( chant ,danse ,pei
 nture)\net bien d'autres choses encore....\n\nPour plus d'information,
  aller sur https://epanews.fr/events/salon-bien-tre-1
DTSTART;TZID=Europe/Paris:20130906T000000
DTEND;TZID=Europe/Paris:20130906T235900
CATEGORIES:77190
LOCATION:DAMMARIES LES LYS 77 CENTRE SOCIO EDUCATIF
WEBSITE:
URL:
CONTACT:01 64 87 49 49
ORGANIZER:ASSOCIATION RESEDA
ATTACH;FMTTYPE="image/jpeg":
ATTENDEE;ROLE=REQ-PARTICIPANT;PARTSTAT=ACCEPTED;RSVP=TRUE;CN="BACHELIE
 R CHRISTINE":https://epanews.fr/profile/BACHELIERCHRISTINE
END:VEVENT
END:VCALENDAR
