BEGIN:VCALENDAR
PRODID:NingEventWidget-v1
VERSION:2.0
METHOD:PUBLISH
BEGIN:VTIMEZONE
TZID:Europe/Paris
X-LIC-LOCATION:Europe/Paris
BEGIN:DAYLIGHT
TZOFFSETFROM:+0100
TZOFFSETTO:+0200
TZNAME:CEST
DTSTART:19700329T020000
RRULE:FREQ=YEARLY;BYMONTH=3;BYDAY=-1SU
END:DAYLIGHT
BEGIN:STANDARD
TZOFFSETFROM:+0200
TZOFFSETTO:+0100
TZNAME:CET
DTSTART:19701025T030000
RRULE:FREQ=YEARLY;BYMONTH=10;BYDAY=-1SU
END:STANDARD
END:VTIMEZONE
BEGIN:VEVENT
UID:2485226:Event:1140104
DTSTAMP:20260421T043826Z
SUMMARY:Salon Bien-Etre, MÃ©decine Douce et Thalasso fÃ©vrier 2013
DESCRIPTION:Salon Bien-Etre, MÃ©decine Douce et Thalasso Porte de Vers
 ailles les 14, 15, 16, 17Â  et 18 fÃ©vrier 2013\n300 exposants + confÃ
 ©rences et ateliers\nInvitation gratuite :\nhttp://www.ayurvedavoyages
 .com/pdf/invitation-mdouce-2013.pdf\n\nPour plus d'information, aller 
 sur https://epanews.fr/events/salon-bien-etre-m-decine-douce-et-thalas
 so-f-vrier-2013
DTSTART;TZID=Europe/Paris:20130214T180000
DTEND;TZID=Europe/Paris:20130218T190000
CATEGORIES:tous
LOCATION:Paris Porte de Versailles Hall 5.2
WEBSITE:http://www.ayurvedavoyages.com/pdf/invitation-mdouce-2013.pdf
URL:http://www.ayurvedavoyages.com/pdf/invitation-mdouce-2013.pdf
CONTACT:
ORGANIZER:Salon Bien Etre
ATTACH;FMTTYPE="image/jpeg":
ATTENDEE;ROLE=REQ-PARTICIPANT;PARTSTAT=ACCEPTED;RSVP=TRUE;CN="Ayurveda
  Voyages":https://epanews.fr/profile/AyurvedaVoyages
ATTENDEE;ROLE=REQ-PARTICIPANT;PARTSTAT=TENTATIVE;RSVP=TRUE;CN=Meriem:h
 ttps://epanews.fr/profile/MeriemDjouad
ATTENDEE;ROLE=REQ-PARTICIPANT;PARTSTAT=TENTATIVE;RSVP=TRUE;CN=Minoucha
 :https://epanews.fr/profile/Minoucha
END:VEVENT
END:VCALENDAR
