BEGIN:VCALENDAR
PRODID:NingEventWidget-v1
VERSION:2.0
METHOD:PUBLISH
BEGIN:VTIMEZONE
TZID:Europe/Paris
X-LIC-LOCATION:Europe/Paris
BEGIN:DAYLIGHT
TZOFFSETFROM:+0100
TZOFFSETTO:+0200
TZNAME:CEST
DTSTART:19700329T020000
RRULE:FREQ=YEARLY;BYMONTH=3;BYDAY=-1SU
END:DAYLIGHT
BEGIN:STANDARD
TZOFFSETFROM:+0200
TZOFFSETTO:+0100
TZNAME:CET
DTSTART:19701025T030000
RRULE:FREQ=YEARLY;BYMONTH=10;BYDAY=-1SU
END:STANDARD
END:VTIMEZONE
BEGIN:VEVENT
UID:2485226:Event:1088044
DTSTAMP:20260423T025242Z
SUMMARY:\"S'Ã©veiller Pleinement Ã  la Nouvelle Conscience\"
DESCRIPTION:Le Professeur El AMRANI-JOUTEY\nÂ Â Â Â Â Â Â Â Â Â Â Â Â 
 Â Â Â Â Â Â Â Â \nStage\nÂ \nÂ«Â Sâ€™EVEILLER PLEINEMENT A\nLA NOUVELL
 E CONSCIENCEÂ Â»\nÂ 2 et 3 fÃ©vrier 2013\nÂ Â«Â GrÃ¢ce Ã  LA DYNAMIQUE
  MATRICIELLE,\nUn outil de vie ExceptionnelÂ !Â Â»\nÂ \nExtraits des c
 onfÃ©rences sur www.dynamique-matricielle.fr\nÂ \nMONDIALEMENT CONNU, 
 le Professeur El AMRANI-JOUTEY est Docteur en MÃ©decine, spÃ©cialisÃ© 
 en Neuro-endocrinologie et Immunologie, Docteur en Naturopathie et MÃ©
 decine EnergÃ©tique, diplÃ´mÃ© en Chronobiologie et Ecologie humaine. 
 Il a notamment dirigÃ© le Laboratoire de Recherche du Roi du Maroc oÃ¹
  dans un cadre officiel, il a Ã©tÃ© un des premiers au Monde Ã  organi
 ser une dynamique constructive entre la MÃ©decine Â«classiqueÂ» et les
  MÃ©decines dites Â«alternativesÂ». Ses stages ont dÃ©jÃ  Ã©tÃ© suivis
  par plus de 4000 personnes.\nÂ \nLâ€™intÃ©gration de ses diverses con
 naissances, lui a permis de crÃ©er la Dynamique Matricielle, outil vib
 ratoire puissant .\nÂ La Dynamique Matricielle est une dÃ©marche scien
 tifique qui UNIFIE les dÃ©couvertes les plus rÃ©centes des Sciences (p
 hysique quantique, endocrinologieâ€¦) et les grandes Sagesses dans leu
 r forme Ã©volutive (Advaita Vedanta, Soufismeâ€¦) pour nous amener au 
 cÅ“ur du vivant et retrouver le lien dâ€™UnitÃ© avec lâ€™Univers.\nÂ \
 nCe stage de 2 jours vise Ã Â :\n- Activer notre potentiel neurosensor
 iel pour entrer en rÃ©sonnance avec les Nouvelles Â«Â EnergiesÂ Â» qui
  nourrissent le Monde\n- CrÃ©er un support physiologique pour intÃ©gre
 r le nouveau Paradigme\n- RÃ©veiller le potentiel de gestion des dÃ©sÃ
 ©quilibres\n- AccÃ©der Ã  la Nouvelle lecture du Monde (IntÃ©rieur et 
 ExtÃ©rieur) nÃ©cessaire Ã  notre Ã©volution\n(Utilisation de diffÃ©ren
 ts outils dont les sons primordiauxâ€¦)\nÂ \nSamedi (10h-17h) ; Dimanc
 he (9h30-17h)\n200 â‚¬ (130â‚¬ pour les anciens)\nChÃ¨que de rÃ©servat
 ion* de 50 â‚¬\nRepas de midi 10 â‚¬ Ã  rÃ©gler sur place (prÃ©ciser s
 i vÃ©gÃ©tarien)\nÂ \nMaison du BÃ¢timent (Grande salle de confÃ©rence)
 \n344, Bd MicheletÂ  13009 Marseille, Parking gratuit\nMÃ©tro Rd Point
  du Prado puis Bus 21 ou 22 (arrÃªt Luce)\nÂ \n*Pour rÃ©server, ce cou
 pon est Ã  expÃ©dier au plus vite, avec votre chÃ¨que de rÃ©servation 
 de 50 â‚¬\n(Ordre Â«Terre De RessourcesÂ»)\nÃ Â : Â«Terre De Ressource
 sÂ» 18 A rue DieudÃ© 13006 Marseille\nPlus dâ€™infos : Lou GARLONE 06 
 10 07 45 74 Â ou info@terrederessources.com\n-------Coupon Ã  retourne
 r (imprimÃ© ou recopiÃ©) avec le chÃ¨que de rÃ©servation ------\nStage
  du Professeur El Amrani Joutey des 2 et 3 fÃ©vrier 2013\nÂ \nNom(s)/P
 rÃ©nom(s)Â :\nÂ \nAdresseÂ :\nÂ \nE-mailÂ :\nÂ \nTÃ©l.:\nÂ \nMontant r
 Ã©glÃ© ce jourÂ :\nÂ \nNombre de repas rÃ©servÃ©(s) le samediÂ : _____
 _, le dimancheÂ : ______\n(Repas 10 â‚¬ Ã  rÃ©server, mais Ã  rÃ©gler 
 sur place / prÃ©ciser si vÃ©gÃ©tarien)\nÂ \nÂ \n\nPour plus d'informat
 ion, aller sur https://epanews.fr/events/s-veiller-pleinement-la-nouve
 lle-conscience
DTSTART;TZID=Europe/Paris:20130202T100000
DTEND;TZID=Europe/Paris:20130203T170000
CATEGORIES:13
LOCATION:MARSEILLE
WEBSITE:
URL:
CONTACT:0610074574
ORGANIZER;CN="GARLONE Lou":https://epanews.fr/profile/GARLONELOU
ATTACH;FMTTYPE="image/jpeg":http://storage.ning.com/topology/rest/1.0/
 file/get/1662724968?profile=original
ATTENDEE;ROLE=REQ-PARTICIPANT;PARTSTAT=ACCEPTED;RSVP=TRUE;CN="GARLONE 
 Lou":https://epanews.fr/profile/GARLONELOU
END:VEVENT
END:VCALENDAR
