BEGIN:VCALENDAR
PRODID:NingEventWidget-v1
VERSION:2.0
METHOD:PUBLISH
BEGIN:VTIMEZONE
TZID:Europe/Paris
X-LIC-LOCATION:Europe/Paris
BEGIN:DAYLIGHT
TZOFFSETFROM:+0100
TZOFFSETTO:+0200
TZNAME:CEST
DTSTART:19700329T020000
RRULE:FREQ=YEARLY;BYMONTH=3;BYDAY=-1SU
END:DAYLIGHT
BEGIN:STANDARD
TZOFFSETFROM:+0200
TZOFFSETTO:+0100
TZNAME:CET
DTSTART:19701025T030000
RRULE:FREQ=YEARLY;BYMONTH=10;BYDAY=-1SU
END:STANDARD
END:VTIMEZONE
BEGIN:VEVENT
UID:2485226:Event:1616764
DTSTAMP:20260423T101655Z
SUMMARY:Séminaire \"Se relier à Soi-même\" - Les 16 et 17 Novembre 
 2013
DESCRIPTION:              ******* COMPLET !!!   (Au 11/1
 1/2013) *******\nIl s'agit d'un séminaire se déroulant sur deux jour
 s et permettant à ceux qui y assisteront, d'apprendre comme se relier
  à eux-mêmes, pourquoi être ainsi relier à Soi et pourquoi est-il 
 primordial, à notre époque, d'établir ce genre de relationnel intim
 e.\nQu'est-ce que \"Le Soi\" ?\nC'est simplement ce que nous serions t
 ous si nous n'avions pas été, dès la plus tendre enfance, obligés 
 de nous conformer à certains \"canons\", à certaines programmations 
 mentales, qu'elles soient relatives à notre vie sociale, à notre éd
 ucation ou encore aux croyances héritées de nos pairs.\nLe Soi est c
 et état de plénitude intérieure dont parlent la plupart des traditi
 ons spirituelles, qu'elles soient orientales ou bien occidentales.\nEt
  contrairement à la légende, rien n'est plus simple et naturel que d
 e se sentir intègre et relié à soi-même, à ce que nous sommes \"e
 n esprit et en vérité.\"\nPour plus d'infos (détails des sujets abo
 rdés), merci de cliquer sur le lien proposé au-dessus, dans la parti
 e Site web ou plan.\n\nPour plus d'information, aller sur https://epan
 ews.fr/events/s-minaire-se-relier-soi-m-me-les-16-et-17-novembre-2013
DTSTART;TZID=Europe/Paris:20131116T090000
DTEND;TZID=Europe/Paris:20131117T173000
CATEGORIES:tous
LOCATION:Monthou-sur-Bièvre (Complet au 11/11/2013)
WEBSITE:http://www.theb4.fr/vivre-livres/ateliers/
URL:http://www.theb4.fr/vivre-livres/ateliers/
CONTACT:07.70.03.87.85  ou 06.25.80.75.76
ORGANIZER;CN="Serge Baccino":https://epanews.fr/profile/SergeBaccino
ATTACH;FMTTYPE="image/jpeg":http://storage.ning.com/topology/rest/1.0/
 file/get/1662964862?profile=original
ATTENDEE;ROLE=REQ-PARTICIPANT;PARTSTAT=ACCEPTED;RSVP=TRUE;CN="Serge Ba
 ccino":https://epanews.fr/profile/SergeBaccino
END:VEVENT
END:VCALENDAR
