BEGIN:VCALENDAR
PRODID:NingEventWidget-v1
VERSION:2.0
METHOD:PUBLISH
BEGIN:VTIMEZONE
TZID:Europe/Paris
X-LIC-LOCATION:Europe/Paris
BEGIN:DAYLIGHT
TZOFFSETFROM:+0100
TZOFFSETTO:+0200
TZNAME:CEST
DTSTART:19700329T020000
RRULE:FREQ=YEARLY;BYMONTH=3;BYDAY=-1SU
END:DAYLIGHT
BEGIN:STANDARD
TZOFFSETFROM:+0200
TZOFFSETTO:+0100
TZNAME:CET
DTSTART:19701025T030000
RRULE:FREQ=YEARLY;BYMONTH=10;BYDAY=-1SU
END:STANDARD
END:VTIMEZONE
BEGIN:VEVENT
UID:2485226:Event:2418209
DTSTAMP:20260423T111712Z
SUMMARY:séminaire phénomène non cohérents 17 et 18 octobre
DESCRIPTION:Samedi 17 & Dimanche 18 Octobre\nPhénomènes non cohéren
 ts dans l’harmonisation et la thérapie\nDeux jours pour démystifie
 r tous les phénomènes liés à l’invisible que vous pourrez rencon
 trer lors des interventions. (Sur les lieux comme sur l’humain).\nNo
 us détaillerons tous les états instables qui peuvent affecter le lie
 u et l’homme ;  des formes de pensées aux états magie, des trans
 ferts aux chevauchements…\nVous apprendrez les précautions à envis
 ager et les protections pour aborder et traiter ces phénomènes.\nEn 
 fin de séminaire vous aurez appris à vous protéger et à utiliser l
 es formes et les générateurs et amplificateurs de formes, les intent
 ions, la prière, les rituels… afin de traiter tous les phénomènes
  non cohérents.\nTarif 240 euros les deux journées, (Hors repas traj
 ets hébergements)\nLe stage se déroule dans nos locaux 251 chemin de
  St Rustice 82170 Pompignan\nPour répondre au mieux à vos attentes, 
 le nombre de participants est limité à dix au maximum. Lors des sém
 inaires un buffet convivial accompagne les pauses. Un support de cours
  est fourni pour chaque séminaire. Les repas sont pris en commun dans
  un restaurant des environs.\n\nPour plus d'information, aller sur htt
 ps://epanews.fr/events/s-minaire-ph-nom-ne-non-coh-rents-17-et-18-octo
 bre
DTSTART;TZID=Europe/Paris:20151017T210000
DTEND;TZID=Europe/Paris:20151018T060000
CATEGORIES:82
LOCATION:Pompignan
WEBSITE:
URL:
CONTACT:
ORGANIZER;CN="Bruno BRAIDA":https://epanews.fr/profile/BrunoBRAIDA
ATTACH;FMTTYPE="image/jpeg":http://storage.ning.com/topology/rest/1.0/
 file/get/1663449426?profile=original
ATTENDEE;ROLE=REQ-PARTICIPANT;PARTSTAT=ACCEPTED;RSVP=TRUE;CN="Bruno BR
 AIDA":https://epanews.fr/profile/BrunoBRAIDA
END:VEVENT
END:VCALENDAR
