BEGIN:VCALENDAR
PRODID:NingEventWidget-v1
VERSION:2.0
METHOD:PUBLISH
BEGIN:VTIMEZONE
TZID:Europe/Paris
X-LIC-LOCATION:Europe/Paris
BEGIN:DAYLIGHT
TZOFFSETFROM:+0100
TZOFFSETTO:+0200
TZNAME:CEST
DTSTART:19700329T020000
RRULE:FREQ=YEARLY;BYMONTH=3;BYDAY=-1SU
END:DAYLIGHT
BEGIN:STANDARD
TZOFFSETFROM:+0200
TZOFFSETTO:+0100
TZNAME:CET
DTSTART:19701025T030000
RRULE:FREQ=YEARLY;BYMONTH=10;BYDAY=-1SU
END:STANDARD
END:VTIMEZONE
BEGIN:VEVENT
UID:2485226:Event:2912394
DTSTAMP:20260424T201047Z
SUMMARY:Séminaire \"Le Raja Tarot\" 1 par Gérard Athias et Isabelle 
 Boos
DESCRIPTION:Le RAJA TAROT\nTarot Energétique & Géométrie Sacrée\np
 ar Isabelle BOOS & Gérard ATHIAS\nà Sanary sur Mer (83)\nTarif : 390
 €\nPour en savoir plus : http://vivance-reliance.fr/seminaires-le-ra
 ja-tarot-par-isabelle-boos-gerard-athias/\n\nPour plus d'information, 
 aller sur https://epanews.fr/events/s-minaire-le-raja-tarot-1-par-g-ra
 rd-athias-et-isabelle-boos
DTSTART;TZID=Europe/Paris:20180511T000000
DTEND;TZID=Europe/Paris:20180513T235900
CATEGORIES:83
LOCATION:Centre Azur
WEBSITE:http://vivance-reliance.fr/seminaires-le-raja-tarot-par-isabel
 le-boos-gerard-athias/
URL:http://vivance-reliance.fr/seminaires-le-raja-tarot-par-isabelle-b
 oos-gerard-athias/
CONTACT:0613541476
ORGANIZER;CN="Stéphanie BAGNIS":https://epanews.fr/profile/StephanieB
 AGNIS
ATTACH;FMTTYPE="image/jpeg":http://storage.ning.com/topology/rest/1.0/
 file/get/1663706068?profile=original
ATTENDEE;ROLE=REQ-PARTICIPANT;PARTSTAT=ACCEPTED;RSVP=TRUE;CN="Stéphan
 ie BAGNIS":https://epanews.fr/profile/StephanieBAGNIS
END:VEVENT
END:VCALENDAR
