BEGIN:VCALENDAR
PRODID:NingEventWidget-v1
VERSION:2.0
METHOD:PUBLISH
BEGIN:VTIMEZONE
TZID:Europe/Paris
X-LIC-LOCATION:Europe/Paris
BEGIN:DAYLIGHT
TZOFFSETFROM:+0100
TZOFFSETTO:+0200
TZNAME:CEST
DTSTART:19700329T020000
RRULE:FREQ=YEARLY;BYMONTH=3;BYDAY=-1SU
END:DAYLIGHT
BEGIN:STANDARD
TZOFFSETFROM:+0200
TZOFFSETTO:+0100
TZNAME:CET
DTSTART:19701025T030000
RRULE:FREQ=YEARLY;BYMONTH=10;BYDAY=-1SU
END:STANDARD
END:VTIMEZONE
BEGIN:VEVENT
UID:2485226:Event:1076228
DTSTAMP:20260422T093802Z
SUMMARY:SÃ©minaire du 19 et 20 janvier sur la communication consciente
DESCRIPTION:Â  Â Le cabinetÂ \nFLORESSENCE\npropose\nÂ \nLA COMMUNICAT
 IONCONSCIENTE\n(Ã©coute-toi quand les autres te parlent)\nÂ \n13 clÃ©s
  pour retrouver une\nnouvelle conscience dans les Ã©changes avec Â«Â l
 â€™autreÂ Â»\nÂ \nle samedi 19 et dimanche 20 janvier 2013\nde 9h00 Ã 
  19h00Â \nCoÃ»tÂ : 120 euros les deux jours\nÂ \nsÃ©minaire animÃ© par
 \nMARIA NIEDDU\nÂ \nCoach en dÃ©veloppement personnel\nRebirth â€“ ThÃ
 ©rapeute professionnel\nwww.marianieddu.com\nÂ \nPour toute informatio
 n, inscription et demande de documentation complÃ¨te\nContactez Floren
 ce Lauriol\n06 07 56 70 42 Â Â Â Â flolaunaturo@gmail.com\n\nPour plus
  d'information, aller sur https://epanews.fr/events/s-minaire-du-19-et
 -20-janvier-sur-la-communication-consciente
DTSTART;TZID=Europe/Paris:20130119T090000
DTEND;TZID=Europe/Paris:20130120T190000
CATEGORIES:69
LOCATION:Lyon 5Ã¨me
WEBSITE:
URL:
CONTACT:0607567042
ORGANIZER;CN="Florence Lauriol":https://epanews.fr/profile/FlorenceLau
 riol
ATTACH;FMTTYPE="image/jpeg":
ATTENDEE;ROLE=REQ-PARTICIPANT;PARTSTAT=ACCEPTED;RSVP=TRUE;CN="Florence
  Lauriol":https://epanews.fr/profile/FlorenceLauriol
END:VEVENT
END:VCALENDAR
