BEGIN:VCALENDAR
PRODID:NingEventWidget-v1
VERSION:2.0
METHOD:PUBLISH
BEGIN:VTIMEZONE
TZID:Europe/Paris
X-LIC-LOCATION:Europe/Paris
BEGIN:DAYLIGHT
TZOFFSETFROM:+0100
TZOFFSETTO:+0200
TZNAME:CEST
DTSTART:19700329T020000
RRULE:FREQ=YEARLY;BYMONTH=3;BYDAY=-1SU
END:DAYLIGHT
BEGIN:STANDARD
TZOFFSETFROM:+0200
TZOFFSETTO:+0100
TZNAME:CET
DTSTART:19701025T030000
RRULE:FREQ=YEARLY;BYMONTH=10;BYDAY=-1SU
END:STANDARD
END:VTIMEZONE
BEGIN:VEVENT
UID:2485226:Event:2784548
DTSTAMP:20260422T122522Z
SUMMARY:Retraite spirituelle \" MÃ©diter fait Ã©merger une nouvelle rÃ
 ©alitÃ© \"
DESCRIPTION:Dans notre vie qui sollicite beaucoup les corps et les con
 sciences, diverses formes de mÃ©ditation apparaissent nÃ©cessaires, co
 mme rÃ©gulateurs dâ€™Ã©quilibre et d'Ã©nergie. Il existe aussi une tou
 te autre pratique de la mÃ©ditation, intÃ©grant non seulement la perso
 nnalitÃ© mais Ã©galement sa dimension spirituelle complÃ¨te. Cette voi
 e sâ€™appuie sur le centre spirituel de lâ€™Ãªtre. Elle conduit Ã  lâ€
 ™Ã©mergence dâ€™une nouvelle rÃ©alitÃ© de conscience et de vie. Commen
 t mettre en Å“uvre cette mÃ©ditation dans notre quotidien ? Quels rÃ©s
 ultats pouvons-nous obtenir ? Quel impact cela peut-il avoir dans ma v
 ie et sur la sociÃ©tÃ© ? Quelle transformation envisager ? Voici quelq
 ues unes des questions que nous aborderons lors du sÃ©minaire auquel n
 ous vous convions les 4 et 5 mars 2017.   Lâ€™Ã©cole de la Rose-Croix 
 dâ€™Or vous accueille dans l'un de ses deux parcs arborÃ©s, apprÃ©ciÃ©
 s pour leur atmosphÃ¨re sereine, propice au repos et Ã  la dÃ©couverte
 .  Un espace pour lâ€™Ãªtre, moment privilÃ©giÃ© de rencontre, de part
 age, de communication, pour se ressourcer, communiquer, jouer, crÃ©er.
  Un temps pour entrer dans le silence, mÃ©diter â€¦  Câ€™est une occas
 ion unique de sâ€™enrichir en toute libertÃ©, au travers de rencontres
 , dâ€™ateliers et aussi dâ€™exprimer sa recherche, son potentiel, sa c
 rÃ©ativitÃ©.  programmeÂ   Samedi  12h00 : RepasÂ  13h30 : Visite du T
 emple 14h30 : Temps libre: Collation, balade, dÃ©tente, focus littÃ©ra
 ture ateliers crÃ©atifs 18h00 : 1er exposÃ© dans le temple 18h30 : Ech
 anges en petits groupes, tables rondes 19h15 : Repas 20h30 : SoirÃ©eÂ 
  22h00 : AccÃ¨s libre dans le Temple pour un moment mÃ©ditatifÂ  22h30
  : ClÃ´ture de la journÃ©e  Dimanche  7h30-9h30 : Petit dÃ©jeuner - Bu
 ffet 10h00 : 2Ã¨me exposÃ© dans le Temple 10h45 : Echanges en petits g
 roupes, tables rondes 12h00 : Repas 13h00 : Temps libre: Collation, ba
 lade, dÃ©tente, focus littÃ©rature, ateliers crÃ©atifs 15h00 : Collati
 on et clÃ´ture du week-end  Les ateliers crÃ©atifs et mÃ©ditatifs:  * 
 ateliers\" crÃ©atifs\" Peinture, aquarelle, taille de pierre, atelier 
 Ã©criture * atelier Â« MÃ©ditation et conscience du corps Â» Etre prÃ©
 sent Ã  soi-mÃªme, cela s'apprend. Pendant cet atelier, diffÃ©rentes f
 ormes de mÃ©ditation sont prÃ©sentÃ©es. Nous portons l'accent sur l'im
 portance du corps et de ses sensations, en faisant nous-mÃªmes l'expÃ©
 rience des techniques de pleine conscience et de cohÃ©rence cardiaque.
 Â  * atelier Â« MÃ©ditation, Ã©quilibre et conscience Â» Atelier Boule
 -Equilibre-ConscienceÂ  Renseignement & Inscription:  phenix@rose-croi
 x-d-or.org TÃ©l : 03 22 26 19 10 Â  OU Â Â 06 61 32 04 12\n Adresse:  
 Centre du Phenix, Chemin de La Haye, 76340 GUERVILLE  Prix du week-end
  tout compris: 80 â‚¬ 33 â‚¬ (Ã©tudiants, demandeurs dâ€™emploi)  Nous
  organisons un covoiturage a partir de Paris (contact : 06 61 32 04 12
 ).\n\nPour plus d'information, aller sur https://epanews.fr/events/s-m
 inaire-du-04-au-05-mars-m-diter-fait-merger-une-nouvelle-r
DTSTART;TZID=Europe/Paris:20170304T114500
DTEND;TZID=Europe/Paris:20170305T150000
CATEGORIES:75
LOCATION:Centre Le PhÃ©nix
WEBSITE:http://paris.rose-croix-d-or.org
URL:http://paris.rose-croix-d-or.org
CONTACT:0661320412
ORGANIZER;CN=sylvanus:https://epanews.fr/profile/sylvanus
ATTACH;FMTTYPE="image/jpeg":http://storage.ning.com/topology/rest/1.0/
 file/get/1663642040?profile=original
ATTENDEE;ROLE=REQ-PARTICIPANT;PARTSTAT=ACCEPTED;RSVP=TRUE;CN=sylvanus:
 https://epanews.fr/profile/sylvanus
END:VEVENT
END:VCALENDAR
