BEGIN:VCALENDAR
PRODID:NingEventWidget-v1
VERSION:2.0
METHOD:PUBLISH
BEGIN:VTIMEZONE
TZID:Europe/Paris
X-LIC-LOCATION:Europe/Paris
BEGIN:DAYLIGHT
TZOFFSETFROM:+0100
TZOFFSETTO:+0200
TZNAME:CEST
DTSTART:19700329T020000
RRULE:FREQ=YEARLY;BYMONTH=3;BYDAY=-1SU
END:DAYLIGHT
BEGIN:STANDARD
TZOFFSETFROM:+0200
TZOFFSETTO:+0100
TZNAME:CET
DTSTART:19701025T030000
RRULE:FREQ=YEARLY;BYMONTH=10;BYDAY=-1SU
END:STANDARD
END:VTIMEZONE
BEGIN:VEVENT
UID:2485226:Event:1922249
DTSTAMP:20260422T000958Z
SUMMARY:SÃ©minaire de transmission de la pratique du Tambour MÃ©decine
DESCRIPTION:Vous avez un tambour de chamane, vous dÃ©sirez apprendre Ã
   en utiliser le potentiel et Ã©veiller votre guÃ©risseur intÃ©rieur.\
 nA travers diffÃ©rents ateliers pratiques, nous explorerons le monde d
 e la vibration, du fluide de vie et de la joie intÃ©rieure.\nNous prat
 iquerons dans la nature et dans le tipi.Ouvert Ã  tous, amateurs et pr
 ofessionnels du soin.  - De quoi est fait notre rÃ©el ?- DÃ©velopper l
 a confiance en son intuition. - Alignement de nos centres.- Ouverture 
 aux 4 directions, aux ressources et gardiens associÃ©s. - Comment se m
 ettre dans \"l'Ã©tat d'Ãªtre de guÃ©risseur\".- IntÃ©gration, sÃ©ance 
 de guÃ©rison et d'auto-guÃ©rison.- Le \"chamanisme\" est en chacun de 
 nous.- Notions d'archÃ©types, \"d'esprits\", leurs aspects lumineux et
  leurs aspects ombres.- Travail au tambour avec la gÃ©nÃ©alogie, comme
 nt libÃ©rer les verrous.- Comment gÃ©rer les imprÃ©vus : transes, abrÃ
 ©actions... - Harmonisation des lieux.  CÃ´tÃ© pratique :Participation
  60 â‚¬Nous pouvons prÃªter des tambours aux personnes qui n'en possÃ¨
 dent pas.\nAssociation \"Autour des tambours\"Mas Lafont30170 CROS06 8
 0 46 35 18 levequejoel2005@yahoo.fr https://www.facebook.com/autourdes
 tambourshttp://www.joel-leveque.com\n\nPour plus d'information, aller 
 sur https://epanews.fr/events/s-minaire-de-transmission-de-la-pratique
 -du-tambour-m-decine-1
DTSTART;TZID=Europe/Paris:20140714T090000
DTEND;TZID=Europe/Paris:20140714T170000
CATEGORIES:30
LOCATION:Campement Autour des Tambours
WEBSITE:http://www.joel-leveque.com
URL:http://www.joel-leveque.com
CONTACT:06 80 46 35 18
ORGANIZER;CN=joel:https://epanews.fr/profile/joel495
ATTACH;FMTTYPE="image/jpeg":http://storage.ning.com/topology/rest/1.0/
 file/get/1663140074?profile=original
ATTENDEE;ROLE=REQ-PARTICIPANT;PARTSTAT=ACCEPTED;RSVP=TRUE;CN=Cdric:htt
 ps://epanews.fr/profile/Cdric
ATTENDEE;ROLE=REQ-PARTICIPANT;PARTSTAT=ACCEPTED;RSVP=TRUE;CN=joel:http
 s://epanews.fr/profile/joel495
END:VEVENT
END:VCALENDAR
